BEGIN_USGS_DOQ_HEADER *
QUADRANGLE_NAME "MANIX" *
QUADRANT SE *
NORTH_LATITUDE 34 56 15.000 *
WEST_LONGITUDE -116 33 45.000 *
SOUTH_LATITUDE 34 52 30.000 *
EAST_LONGITUDE -116 30 00.000 *
PRODUCTION_DATE 1998 04 21 *
RASTER_ORDER LEFT_RIGHT/TOP_BOTTOM *
BAND_ORGANIZATION "SINGLE FILE" *
BAND_CONTENT BLACK&WHITE *
BITS_PER_PIXEL 8 *
SAMPLES_AND_LINES 6450 7590 *
HORIZONTAL_DATUM NAD83 *
HORIZONTAL_COORDINATE_SYSTEM UTM *
COORDINATE_ZONE 11 *
HORIZONTAL_UNITS METERS *
HORIZONTAL_RESOLUTION 1.000 *
SECONDARY_HORIZONTAL_DATUM NAD27 *
XY_ORIGIN 539550.000 3866550.000 *
SECONDARY_XY_ORIGIN 539629.550 3866354.578 *
NATION US *
STATE CA *
NW_QUAD_CORNER_XY 539953.066 3866199.444 *
NE_QUAD_CORNER_XY 545660.694 3866226.186 *
SE_QUAD_CORNER_XY 545695.306 3859295.189 *
SW_QUAD_CORNER_XY 539983.351 3859268.469 *
SECONDARY_NW_QUAD_XY 539953.988 3866002.071 *
SECONDARY_NE_QUAD_XY 545661.748 3866028.814 *
SECONDARY_SE_QUAD_XY 545696.359 3859098.006 *
SECONDARY_SW_QUAD_XY 539984.273 3859071.285 *
RMSE_XY 1.156 *
IMAGE_SOURCE "BLACK AND WHITE FILM" *
SOURCE_IMAGE_ID "NAPP 6871 75" *
SOURCE_IMAGE_DATE 1995 09 30 *
SOURCE_DEM_DATE 1982 01 01 *
AGENCY "WESTERN MAPPING CENTER (WMC)" *
PRODUCER "ANALYTICAL SURVEYS INC." *
PRODUCTION_SYSTEM "ORBIT OR_RECTIFY V.5.2" *
STANDARD_VERSION 1996 12 *
METADATA_DATE 1998 04 23 *
DATA_FILE_SIZE 48961950 *
BYTE_COUNT 6450 * * * * * * * * * * * * * * * * * * * * * * * * * * * * * * * * * * * * * *
END_USGS_HEADER *
