BEGIN_USGS_DOQ_HEADER *
QUADRANGLE_NAME "HARVARD HILL" *
QUADRANT NW *
NORTH_LATITUDE 35 00 00.000 *
WEST_LONGITUDE -116 45 00.000 *
SOUTH_LATITUDE 34 56 15.000 *
EAST_LONGITUDE -116 41 15.000 *
PRODUCTION_DATE 1998 04 21 *
RASTER_ORDER LEFT_RIGHT/TOP_BOTTOM *
BAND_ORGANIZATION "SINGLE FILE" *
BAND_CONTENT BLACK&WHITE *
BITS_PER_PIXEL 8 *
SAMPLES_AND_LINES 6420 7560 *
HORIZONTAL_DATUM NAD83 *
HORIZONTAL_COORDINATE_SYSTEM UTM *
COORDINATE_ZONE 11 *
HORIZONTAL_UNITS METERS *
HORIZONTAL_RESOLUTION 1.000 *
SECONDARY_HORIZONTAL_DATUM NAD27 *
XY_ORIGIN 522420.000 3873390.000 *
SECONDARY_XY_ORIGIN 522499.635 3873194.536 *
NATION US *
STATE CA *
NW_QUAD_CORNER_XY 522812.939 3873071.612 *
NE_QUAD_CORNER_XY 528516.191 3873087.669 *
SE_QUAD_CORNER_XY 528537.857 3866156.657 *
SW_QUAD_CORNER_XY 522830.271 3866140.612 *
SECONDARY_NW_QUAD_XY 522813.466 3872874.048 *
SECONDARY_NE_QUAD_XY 528516.850 3872890.106 *
SECONDARY_SE_QUAD_XY 528538.516 3865959.283 *
SECONDARY_SW_QUAD_XY 522830.798 3865943.237 *
RMSE_XY 1.034 *
IMAGE_SOURCE "BLACK AND WHITE FILM" *
SOURCE_IMAGE_ID "NAPP 6873 24" *
SOURCE_IMAGE_DATE 1995 10 01 *
SOURCE_DEM_DATE 1982 01 01 *
AGENCY "WESTERN MAPPING CENTER (WMC)" *
PRODUCER "ANALYTICAL SURVEYS INC." *
PRODUCTION_SYSTEM "ORBIT OR_RECTIFY V.5.2" *
STANDARD_VERSION 1996 12 *
METADATA_DATE 1998 04 23 *
DATA_FILE_SIZE 48541620 *
BYTE_COUNT 6420 * * * * * * * * * * * * * * * * * * * * * * * * * * * * * * * * * * * * * *
END_USGS_HEADER *
