BEGIN_USGS_DOQ_HEADER *
QUADRANGLE_NAME "YERMO" *
QUADRANT SE *
NORTH_LATITUDE 34 56 15.000 *
WEST_LONGITUDE -116 48 45.000 *
SOUTH_LATITUDE 34 52 30.000 *
EAST_LONGITUDE -116 45 00.000 *
PRODUCTION_DATE 1998 04 21 *
RASTER_ORDER LEFT_RIGHT/TOP_BOTTOM *
BAND_ORGANIZATION "SINGLE FILE" *
BAND_CONTENT BLACK&WHITE *
BITS_PER_PIXEL 8 *
SAMPLES_AND_LINES 6450 7590 *
HORIZONTAL_DATUM NAD83 *
HORIZONTAL_COORDINATE_SYSTEM UTM *
COORDINATE_ZONE 11 *
HORIZONTAL_UNITS METERS *
HORIZONTAL_RESOLUTION 1.000 *
SECONDARY_HORIZONTAL_DATUM NAD27 *
XY_ORIGIN 516720.000 3866460.000 *
SECONDARY_XY_ORIGIN 516799.682 3866264.563 *
NATION US *
STATE CA *
NW_QUAD_CORNER_XY 517122.695 3866128.133 *
NE_QUAD_CORNER_XY 522830.271 3866140.612 *
SE_QUAD_CORNER_XY 522847.577 3859209.684 *
SW_QUAD_CORNER_XY 517135.674 3859197.214 *
SECONDARY_NW_QUAD_XY 517123.091 3865930.758 *
SECONDARY_NE_QUAD_XY 522830.798 3865943.237 *
SECONDARY_SE_QUAD_XY 522848.104 3859012.498 *
SECONDARY_SW_QUAD_XY 517136.069 3859000.029 *
RMSE_XY 0.987 *
IMAGE_SOURCE "BLACK AND WHITE FILM" *
SOURCE_IMAGE_ID "NAPP 6873 83" *
SOURCE_IMAGE_DATE 1995 10 01 *
SOURCE_DEM_DATE 1970 01 01 *
AGENCY "WESTERN MAPPING CENTER (WMC)" *
PRODUCER "ANALYTICAL SURVEYS INC." *
PRODUCTION_SYSTEM "ORBIT OR_RECTIFY V.5.2" *
STANDARD_VERSION 1996 12 *
METADATA_DATE 1998 04 23 *
DATA_FILE_SIZE 48961950 *
BYTE_COUNT 6450 * * * * * * * * * * * * * * * * * * * * * * * * * * * * * * * * * * * * * *
END_USGS_HEADER *
