BEGIN_USGS_DOQ_HEADER *
QUADRANGLE_NAME "YERMO" *
QUADRANT SW *
NORTH_LATITUDE 34 56 15.000 *
WEST_LONGITUDE -116 52 30.000 *
SOUTH_LATITUDE 34 52 30.000 *
EAST_LONGITUDE -116 48 45.000 *
PRODUCTION_DATE 1998 04 22 *
RASTER_ORDER LEFT_RIGHT/TOP_BOTTOM *
BAND_ORGANIZATION "SINGLE FILE" *
BAND_CONTENT BLACK&WHITE *
BITS_PER_PIXEL 8 *
SAMPLES_AND_LINES 6420 7560 *
HORIZONTAL_DATUM NAD83 *
HORIZONTAL_COORDINATE_SYSTEM UTM *
COORDINATE_ZONE 11 *
HORIZONTAL_UNITS METERS *
HORIZONTAL_RESOLUTION 1.000 *
SECONDARY_HORIZONTAL_DATUM NAD27 *
XY_ORIGIN 511020.000 3866430.000 *
SECONDARY_XY_ORIGIN 511099.697 3866234.614 *
NATION US *
STATE CA *
NW_QUAD_CORNER_XY 511415.126 3866119.219 *
NE_QUAD_CORNER_XY 517122.695 3866128.133 *
SE_QUAD_CORNER_XY 517135.674 3859197.214 *
SW_QUAD_CORNER_XY 511423.779 3859188.308 *
SECONDARY_NW_QUAD_XY 511415.390 3865921.843 *
SECONDARY_NE_QUAD_XY 517123.091 3865930.758 *
SECONDARY_SE_QUAD_XY 517136.069 3859000.029 *
SECONDARY_SW_QUAD_XY 511424.042 3858991.122 *
RMSE_XY 0.825 *
IMAGE_SOURCE "BLACK AND WHITE FILM" *
SOURCE_IMAGE_ID "NAPP 6873 94" *
SOURCE_IMAGE_DATE 1995 10 01 *
SOURCE_IMAGE_ID "NAPP 6873 95" *
SOURCE_IMAGE_DATE 1995 10 01 *
SOURCE_DEM_DATE 1970 01 01 *
AGENCY "WESTERN MAPPING CENTER (WMC)" *
PRODUCER "ANALYTICAL SURVEYS INC." *
PRODUCTION_SYSTEM "ORBIT OR_RECTIFY V.5.2" *
STANDARD_VERSION 1996 12 *
METADATA_DATE 1998 04 23 *
DATA_FILE_SIZE 48541620 *
BYTE_COUNT 6420 * * * * * * * * * * * * * * * * * * * * * * * * * * * * * * * * * * * *
END_USGS_HEADER *
