BEGIN_USGS_DOQ_HEADER *
QUADRANGLE_NAME "NEBO" *
QUADRANT SE *
NORTH_LATITUDE 34 56 15.000 *
WEST_LONGITUDE -116 56 15.000 *
SOUTH_LATITUDE 34 52 30.000 *
EAST_LONGITUDE -116 52 30.000 *
PRODUCTION_DATE 1998 04 20 *
RASTER_ORDER LEFT_RIGHT/TOP_BOTTOM *
BAND_ORGANIZATION "SINGLE FILE" *
BAND_CONTENT BLACK&WHITE *
BITS_PER_PIXEL 8 *
SAMPLES_AND_LINES 6420 7560 *
HORIZONTAL_DATUM NAD83 *
HORIZONTAL_COORDINATE_SYSTEM UTM *
COORDINATE_ZONE 11 *
HORIZONTAL_UNITS METERS *
HORIZONTAL_RESOLUTION 1.000 *
SECONDARY_HORIZONTAL_DATUM NAD27 *
XY_ORIGIN 505320.000 3866430.000 *
SECONDARY_XY_ORIGIN 505399.713 3866234.666 *
NATION US *
STATE CA *
NW_QUAD_CORNER_XY 505707.562 3866113.871 *
NE_QUAD_CORNER_XY 511415.126 3866119.219 *
SE_QUAD_CORNER_XY 511423.779 3859188.308 *
SW_QUAD_CORNER_XY 505711.888 3859182.964 *
SECONDARY_NW_QUAD_XY 505707.694 3865916.495 *
SECONDARY_NE_QUAD_XY 511415.390 3865921.843 *
SECONDARY_SE_QUAD_XY 511424.042 3858991.122 *
SECONDARY_SW_QUAD_XY 505712.020 3858985.778 *
RMSE_XY 1.396 *
IMAGE_SOURCE "BLACK AND WHITE FILM" *
SOURCE_IMAGE_ID "NAPP 6873 162" *
SOURCE_IMAGE_DATE 1995 10 01 *
SOURCE_DEM_DATE 1970 01 01 *
AGENCY "WESTERN MAPPING CENTER (WMC)" *
PRODUCER "ANALYTICAL SURVEYS INC." *
PRODUCTION_SYSTEM "ORBIT OR_RECTIFY V.5.2" *
STANDARD_VERSION 1996 12 *
METADATA_DATE 1998 04 20 *
DATA_FILE_SIZE 48541620 *
BYTE_COUNT 6420 * * * * * * * * * * * * * * * * * * * * * * * * * * * * * * * * * * * * * *
END_USGS_HEADER *
