BEGIN_USGS_DOQ_HEADER *
QUADRANGLE_NAME "CUCAMONGA PEAK" *
QUADRANT NW *
WEST_LONGITUDE -117 37 30.000 *
EAST_LONGITUDE -117 33 45.000 *
NORTH_LATITUDE 34 15 0.000 *
SOUTH_LATITUDE 34 11 15.000 *
PRODUCTION_DATE 2003 11 11 *
RASTER_ORDER LEFT_RIGHT/TOP_BOTTOM *
BAND_ORGANIZATION BIP *
BAND_CONTENT RED *
BAND_CONTENT GREEN *
BAND_CONTENT BLUE *
BITS_PER_PIXEL 8 *
SAMPLES_AND_LINES 6479 7565 *
HORIZONTAL_DATUM NAD83 *
HORIZONTAL_COORDINATE_SYSTEM UTM *
COORDINATE_ZONE 11 *
HORIZONTAL_UNITS METERS *
HORIZONTAL_RESOLUTION 1.0 *
SECONDARY_HORIZONTAL_DATUM NAD27 *
XY_ORIGIN 442027.530 3790353.820 *
SECONDARY_XY_ORIGIN 442107.969 3790157.448 *
NATION US *
STATE CA *
NW_QUAD_CORNER_XY 442451.818 3790052.702 *
NE_QUAD_CORNER_XY 448206.708 3790019.137 *
SE_QUAD_CORNER_XY 448168.446 3783088.890 *
SW_QUAD_CORNER_XY 442409.303 3783122.426 *
SECONDARY_NW_QUAD_XY 442450.515 3789857.459 *
SECONDARY_NE_QUAD_XY 448205.536 3789823.893 *
SECONDARY_SE_QUAD_XY 448167.275 3782893.844 *
SECONDARY_SW_QUAD_XY 442408.002 3782927.381 *
RMSE_XY 2.00 *
IMAGE_SOURCE "CIR FILM" *
SOURCE_IMAGE_ID "NAPP 12504 135" *
SOURCE_IMAGE_DATE 2002 6 6 *
SOURCE_IMAGE_ID "NAPP 12504 134" *
SOURCE_IMAGE_DATE 2002 6 6 *
SOURCE_IMAGE_ID "NAPP 12504 136" *
SOURCE_IMAGE_DATE 2002 6 6 *
SOURCE_IMAGE_ID "NAPP 12510 21" *
SOURCE_IMAGE_DATE 2002 6 10 *
SOURCE_IMAGE_ID "NAPP 12510 22" *
SOURCE_IMAGE_DATE 2002 6 10 *
SOURCE_IMAGE_ID "NAPP 12510 23" *
SOURCE_IMAGE_DATE 2002 6 10 *
SOURCE_DEM_DATE 2003 1 1 *
AGENCY "WESTERN MAPPING CENTER (WMC)" *
PRODUCER "USDA FS GEOSPATIAL SERVICE AND TECHNOLOGY CENTER" *
PRODUCTION_SYSTEM "ORBIT OR_RECTIFY V.5.2" *
STANDARD_VERSION 1996 12 *
METADATA_DATE 2003 11 3 *
DATA_FILE_SIZE 147060342 *
BYTE_COUNT 19437 * * * * * * * * * * * * * * * * * * * * * * * * * * * * * * * * * * * * * * * * * * * * * * * * * * * * * * * * * * * * * * * * * * * * * * * * * * * * * * * * * * * * * * * * * * * * * * * * * * * * * * * * * * * * * * * * * * * * * * * * * * * * * * * * * * * * * * * * * * * * * * * * * * * * * * * * * * * * * * * * * * * * * * * * * * * * * * * * * * * * * * * * * * * *
END_USGS_HEADER *
