BEGIN_USGS_DOQ_HEADER *
QUADRANGLE_NAME "SILVERWOOD LAKE" *
QUADRANT NW *
WEST_LONGITUDE -117 22 30.000 *
EAST_LONGITUDE -117 18 45.000 *
NORTH_LATITUDE 34 22 30.000 *
SOUTH_LATITUDE 34 18 45.000 *
PRODUCTION_DATE 2003 11 11 *
RASTER_ORDER LEFT_RIGHT/TOP_BOTTOM *
BAND_ORGANIZATION BIP *
BAND_CONTENT RED *
BAND_CONTENT GREEN *
BAND_CONTENT BLUE *
BITS_PER_PIXEL 8 *
SAMPLES_AND_LINES 6453 7551 *
HORIZONTAL_DATUM NAD83 *
HORIZONTAL_COORDINATE_SYSTEM UTM *
COORDINATE_ZONE 11 *
HORIZONTAL_UNITS METERS *
HORIZONTAL_RESOLUTION 1.0 *
SECONDARY_HORIZONTAL_DATUM NAD27 *
XY_ORIGIN 465115.810 3804101.090 *
SECONDARY_XY_ORIGIN 465195.951 3803904.553 *
NATION US *
STATE CA *
NW_QUAD_CORNER_XY 465522.391 3803800.210 *
NE_QUAD_CORNER_XY 471268.682 3803780.744 *
SE_QUAD_CORNER_XY 471247.357 3796850.442 *
SW_QUAD_CORNER_XY 465496.801 3796869.890 *
SECONDARY_NW_QUAD_XY 465521.609 3803604.568 *
SECONDARY_NE_QUAD_XY 471268.031 3803585.103 *
SECONDARY_SE_QUAD_XY 471246.707 3796654.997 *
SECONDARY_SW_QUAD_XY 465496.020 3796674.446 *
RMSE_XY 2.00 *
IMAGE_SOURCE "CIR FILM" *
SOURCE_IMAGE_ID "NAPP 12516 7" *
SOURCE_IMAGE_DATE 2003 5 26 *
SOURCE_IMAGE_ID "NAPP 12516 8" *
SOURCE_IMAGE_DATE 2003 5 26 *
SOURCE_IMAGE_ID "NAPP 12516 6" *
SOURCE_IMAGE_DATE 2003 5 26 *
SOURCE_IMAGE_ID "NAPP 12504 57" *
SOURCE_IMAGE_DATE 2002 6 6 *
SOURCE_IMAGE_ID "NAPP 12504 56" *
SOURCE_IMAGE_DATE 2002 6 6 *
SOURCE_IMAGE_ID "NAPP 12504 55" *
SOURCE_IMAGE_DATE 2002 6 6 *
SOURCE_IMAGE_ID "NAPP 12494 40" *
SOURCE_IMAGE_DATE 2002 6 2 *
SOURCE_IMAGE_ID "NAPP 12494 41" *
SOURCE_IMAGE_DATE 2002 6 2 *
SOURCE_IMAGE_ID "NAPP 12494 42" *
SOURCE_IMAGE_DATE 2002 6 2 *
SOURCE_DEM_DATE 2003 1 1 *
AGENCY "WESTERN MAPPING CENTER (WMC)" *
PRODUCER "USDA FS GEOSPATIAL SERVICE AND TECHNOLOGY CENTER" *
PRODUCTION_SYSTEM "ORBIT OR_RECTIFY V.5.2" *
STANDARD_VERSION 1996 12 *
METADATA_DATE 2003 11 3 *
DATA_FILE_SIZE 146199168 *
BYTE_COUNT 19359 * * * * * * * * * * * * * * * * * * * * * * * * * * * * * * * * * * * * * * * * * * * * * * * * * * * * * * * * * * * * * * * * * * * * * * * * * * * * * * * * * * * * * * * * * * * * * * * * * * * * * * * * * * * * * * * * * * * * * * * * * * * * * * * * * * * * * * * * * * * * * * * * * * * * * * * * * * * * * * * * * * * * * * * * * * * * * * * * * * * * *
END_USGS_HEADER *
