BEGIN_USGS_DOQ_HEADER *
QUADRANGLE_NAME "SILVERWOOD LAKE" *
QUADRANT SE *
WEST_LONGITUDE -117 18 45.000 *
EAST_LONGITUDE -117 15 0.000 *
NORTH_LATITUDE 34 18 45.000 *
SOUTH_LATITUDE 34 15 0.000 *
PRODUCTION_DATE 2003 11 11 *
RASTER_ORDER LEFT_RIGHT/TOP_BOTTOM *
BAND_ORGANIZATION BIP *
BAND_CONTENT RED *
BAND_CONTENT GREEN *
BAND_CONTENT BLUE *
BITS_PER_PIXEL 8 *
SAMPLES_AND_LINES 6453 7547 *
HORIZONTAL_DATUM NAD83 *
HORIZONTAL_COORDINATE_SYSTEM UTM *
COORDINATE_ZONE 11 *
HORIZONTAL_UNITS METERS *
HORIZONTAL_RESOLUTION 1.0 *
SECONDARY_HORIZONTAL_DATUM NAD27 *
XY_ORIGIN 470845.210 3797151.300 *
SECONDARY_XY_ORIGIN 470925.372 3796954.991 *
NATION US *
STATE CA *
NW_QUAD_CORNER_XY 471247.357 3796850.442 *
NE_QUAD_CORNER_XY 476997.901 3796834.529 *
SE_QUAD_CORNER_XY 476980.869 3789904.311 *
SW_QUAD_CORNER_XY 471226.067 3789920.210 *
SECONDARY_NW_QUAD_XY 471246.707 3796654.997 *
SECONDARY_NE_QUAD_XY 476997.381 3796639.084 *
SECONDARY_SE_QUAD_XY 476980.350 3789709.063 *
SECONDARY_SW_QUAD_XY 471225.417 3789724.962 *
RMSE_XY 2.00 *
IMAGE_SOURCE "CIR FILM" *
SOURCE_IMAGE_ID "NAPP 12494 39" *
SOURCE_IMAGE_DATE 2002 6 2 *
SOURCE_IMAGE_ID "NAPP 12494 38" *
SOURCE_IMAGE_DATE 2002 6 2 *
SOURCE_IMAGE_ID "NAPP 12494 40" *
SOURCE_IMAGE_DATE 2002 6 2 *
SOURCE_IMAGE_ID "NAPP 12474 63" *
SOURCE_IMAGE_DATE 2002 5 22 *
SOURCE_IMAGE_ID "NAPP 12516 9" *
SOURCE_IMAGE_DATE 2003 5 26 *
SOURCE_IMAGE_ID "NAPP 12516 8" *
SOURCE_IMAGE_DATE 2003 5 26 *
SOURCE_IMAGE_ID "NAPP 12504 137" *
SOURCE_IMAGE_DATE 2002 6 6 *
SOURCE_IMAGE_ID "NAPP 12494 32" *
SOURCE_IMAGE_DATE 2002 6 2 *
SOURCE_IMAGE_ID "NAPP 12494 31" *
SOURCE_IMAGE_DATE 2002 6 2 *
SOURCE_DEM_DATE 2003 1 1 *
AGENCY "WESTERN MAPPING CENTER (WMC)" *
PRODUCER "USDA FS GEOSPATIAL SERVICE AND TECHNOLOGY CENTER" *
PRODUCTION_SYSTEM "ORBIT OR_RECTIFY V.5.2" *
STANDARD_VERSION 1996 12 *
METADATA_DATE 2003 11 3 *
DATA_FILE_SIZE 146121732 *
BYTE_COUNT 19359 * * * * * * * * * * * * * * * * * * * * * * * * * * * * * * * * * * * * * * * * * * * * * * * * * * * * * * * * * * * * * * * * * * * * * * * * * * * * * * * * * * * * * * * * * * * * * * * * * * * * * * * * * * * * * * * * * * * * * * * * * * * * * * * * * * * * * * * * * * * * * * * * * * * * * * * * * * * * * * * * * * * * * * * * * * * * * * * * * * * * *
END_USGS_HEADER *
