BEGIN_USGS_DOQ_HEADER *
QUADRANGLE_NAME "CAJON" *
QUADRANT SE *
WEST_LONGITUDE -117 26 15.000 *
EAST_LONGITUDE -117 22 30.000 *
NORTH_LATITUDE 34 18 45.000 *
SOUTH_LATITUDE 34 15 0.000 *
PRODUCTION_DATE 2003 11 11 *
RASTER_ORDER LEFT_RIGHT/TOP_BOTTOM *
BAND_ORGANIZATION BIP *
BAND_CONTENT RED *
BAND_CONTENT GREEN *
BAND_CONTENT BLUE *
BITS_PER_PIXEL 8 *
SAMPLES_AND_LINES 6462 7554 *
HORIZONTAL_DATUM NAD83 *
HORIZONTAL_COORDINATE_SYSTEM UTM *
COORDINATE_ZONE 11 *
HORIZONTAL_UNITS METERS *
HORIZONTAL_RESOLUTION 1.0 *
SECONDARY_HORIZONTAL_DATUM NAD27 *
XY_ORIGIN 459335.170 3797193.900 *
SECONDARY_XY_ORIGIN 459415.420 3796997.414 *
NATION US *
STATE CA *
NW_QUAD_CORNER_XY 459746.230 3796892.875 *
NE_QUAD_CORNER_XY 465496.801 3796869.890 *
SE_QUAD_CORNER_XY 465471.253 3789939.641 *
SW_QUAD_CORNER_XY 459716.423 3789962.607 *
SECONDARY_NW_QUAD_XY 459745.318 3796697.431 *
SECONDARY_NE_QUAD_XY 465496.020 3796674.446 *
SECONDARY_SE_QUAD_XY 465470.473 3789744.395 *
SECONDARY_SW_QUAD_XY 459715.512 3789767.360 *
RMSE_XY 2.00 *
IMAGE_SOURCE "CIR FILM" *
SOURCE_IMAGE_ID "NAPP 12504 58" *
SOURCE_IMAGE_DATE 2002 6 6 *
SOURCE_IMAGE_ID "NAPP 12504 59" *
SOURCE_IMAGE_DATE 2002 6 6 *
SOURCE_IMAGE_ID "NAPP 12504 57" *
SOURCE_IMAGE_DATE 2002 6 6 *
SOURCE_IMAGE_ID "NAPP 12502 118" *
SOURCE_IMAGE_DATE 2002 6 5 *
SOURCE_IMAGE_ID "NAPP 12516 12" *
SOURCE_IMAGE_DATE 2003 5 26 *
SOURCE_IMAGE_ID "NAPP 12516 13" *
SOURCE_IMAGE_DATE 2003 5 26 *
SOURCE_IMAGE_ID "NAPP 12474 63" *
SOURCE_IMAGE_DATE 2002 5 22 *
SOURCE_IMAGE_ID "NAPP 12516 9" *
SOURCE_IMAGE_DATE 2003 5 26 *
SOURCE_IMAGE_ID "NAPP 12516 8" *
SOURCE_IMAGE_DATE 2003 5 26 *
SOURCE_DEM_DATE 2003 1 1 *
AGENCY "WESTERN MAPPING CENTER (WMC)" *
PRODUCER "USDA FS GEOSPATIAL SERVICE AND TECHNOLOGY CENTER" *
PRODUCTION_SYSTEM "ORBIT OR_RECTIFY V.5.2" *
STANDARD_VERSION 1996 12 *
METADATA_DATE 2003 11 3 *
DATA_FILE_SIZE 146461230 *
BYTE_COUNT 19386 * * * * * * * * * * * * * * * * * * * * * * * * * * * * * * * * * * * * * * * * * * * * * * * * * * * * * * * * * * * * * * * * * * * * * * * * * * * * * * * * * * * * * * * * * * * * * * * * * * * * * * * * * * * * * * * * * * * * * * * * * * * * * * * * * * * * * * * * * * * * * * * * * * * * * * * * * * * * * * * * * * * * * * * * * * * * * * * * * * * * * *
END_USGS_HEADER *
