BEGIN_USGS_DOQ_HEADER *
QUADRANGLE_NAME "BALDY MESA" *
QUADRANT SW *
WEST_LONGITUDE -117 30 0.000 *
EAST_LONGITUDE -117 26 15.000 *
NORTH_LATITUDE 34 26 15.000 *
SOUTH_LATITUDE 34 22 30.000 *
PRODUCTION_DATE 2003 11 11 *
RASTER_ORDER LEFT_RIGHT/TOP_BOTTOM *
BAND_ORGANIZATION BIP *
BAND_CONTENT RED *
BAND_CONTENT GREEN *
BAND_CONTENT BLUE *
BITS_PER_PIXEL 8 *
SAMPLES_AND_LINES 6457 7558 *
HORIZONTAL_DATUM NAD83 *
HORIZONTAL_COORDINATE_SYSTEM UTM *
COORDINATE_ZONE 11 *
HORIZONTAL_UNITS METERS *
HORIZONTAL_RESOLUTION 1.0 *
SECONDARY_HORIZONTAL_DATUM NAD27 *
XY_ORIGIN 453648.530 3811081.280 *
SECONDARY_XY_ORIGIN 453728.611 3810884.346 *
NATION US *
STATE CA *
NW_QUAD_CORNER_XY 454063.937 3810780.190 *
NE_QUAD_CORNER_XY 459805.988 3810753.624 *
SE_QUAD_CORNER_XY 459776.085 3803823.214 *
SW_QUAD_CORNER_XY 454029.762 3803849.758 *
SECONDARY_NW_QUAD_XY 454062.894 3810584.356 *
SECONDARY_NE_QUAD_XY 459805.074 3810557.787 *
SECONDARY_SE_QUAD_XY 459775.172 3803627.573 *
SECONDARY_SW_QUAD_XY 454028.719 3803654.119 *
RMSE_XY 2.00 *
IMAGE_SOURCE "CIR FILM" *
SOURCE_IMAGE_ID "NAPP 12516 16" *
SOURCE_IMAGE_DATE 2003 5 26 *
SOURCE_IMAGE_ID "NAPP 12516 15" *
SOURCE_IMAGE_DATE 2003 5 26 *
SOURCE_IMAGE_ID "NAPP 12516 17" *
SOURCE_IMAGE_DATE 2003 5 26 *
SOURCE_IMAGE_ID "NAPP 12510 27" *
SOURCE_IMAGE_DATE 2002 6 10 *
SOURCE_IMAGE_ID "NAPP 12510 28" *
SOURCE_IMAGE_DATE 2002 6 10 *
SOURCE_IMAGE_ID "NAPP 12510 29" *
SOURCE_IMAGE_DATE 2002 6 10 *
SOURCE_IMAGE_ID "NAPP 12504 55" *
SOURCE_IMAGE_DATE 2002 6 6 *
SOURCE_IMAGE_ID "NAPP 12504 54" *
SOURCE_IMAGE_DATE 2002 6 6 *
SOURCE_IMAGE_ID "NAPP 12504 53" *
SOURCE_IMAGE_DATE 2002 6 6 *
SOURCE_DEM_DATE 2003 1 1 *
AGENCY "WESTERN MAPPING CENTER (WMC)" *
PRODUCER "USDA FS GEOSPATIAL SERVICE AND TECHNOLOGY CENTER" *
PRODUCTION_SYSTEM "ORBIT OR_RECTIFY V.5.2" *
STANDARD_VERSION 1996 12 *
METADATA_DATE 2003 11 3 *
DATA_FILE_SIZE 146425389 *
BYTE_COUNT 19371 * * * * * * * * * * * * * * * * * * * * * * * * * * * * * * * * * * * * * * * * * * * * * * * * * * * * * * * * * * * * * * * * * * * * * * * * * * * * * * * * * * * * * * * * * * * * * * * * * * * * * * * * * * * * * * * * * * * * * * * * * * * * * * * * * * * * * * * * * * * * * * * * * * * * * * * * * * * * * * * * * * * * * * * * * * * * * * * * * * * * * *
END_USGS_HEADER *
