BEGIN_USGS_DOQ_HEADER *
QUADRANGLE_NAME "FONTANA" *
QUADRANT NW *
NORTH_LATITUDE 34 07 30.000 *
WEST_LONGITUDE -117 30 00.000 *
SOUTH_LATITUDE 34 03 45.000 *
EAST_LONGITUDE -117 26 15.000 *
PRODUCTION_DATE 1998 09 12 *
RASTER_ORDER LEFT_RIGHT/TOP_BOTTOM *
BAND_ORGANIZATION "SINGLE FILE" *
BAND_CONTENT BLACK&WHITE *
BITS_PER_PIXEL 8 *
SAMPLES_AND_LINES 6510 7590 *
HORIZONTAL_DATUM NAD83 *
HORIZONTAL_COORDINATE_SYSTEM UTM *
COORDINATE_ZONE 11 *
HORIZONTAL_UNITS METERS *
HORIZONTAL_RESOLUTION 1.000 *
SECONDARY_HORIZONTAL_DATUM NAD27 *
XY_ORIGIN 453450.000 3776460.000 *
SECONDARY_XY_ORIGIN 453530.452 3776263.650 *
NATION US *
STATE CA *
NW_QUAD_CORNER_XY 453893.609 3776128.733 *
NE_QUAD_CORNER_XY 459656.953 3776102.280 *
SE_QUAD_CORNER_XY 459627.290 3769172.223 *
SW_QUAD_CORNER_XY 453859.708 3769198.652 *
SECONDARY_NW_QUAD_XY 453892.567 3775933.884 *
SECONDARY_NE_QUAD_XY 459656.041 3775907.431 *
SECONDARY_SE_QUAD_XY 459626.379 3768977.573 *
SECONDARY_SW_QUAD_XY 453858.668 3769004.003 *
RMSE_XY 0.619 *
IMAGE_SOURCE "BLACK AND WHITE FILM" *
SOURCE_IMAGE_ID "NAPP 6866 2" *
SOURCE_IMAGE_DATE 1994 06 01 *
SOURCE_DEM_DATE 1952 01 01 *
AGENCY "WESTERN MAPPING CENTER (WMC)" *
PRODUCER "ANALYTICAL SURVEYS INC." *
PRODUCTION_SYSTEM "ORBIT OR_RECTIFY V.5.2" *
STANDARD_VERSION 1996 12 *
METADATA_DATE 1998 09 16 *
DATA_FILE_SIZE 49417410 *
BYTE_COUNT 6510 * * * * * * * * * * * * * * * * * * * * * * * * * * * * * * * * * * * * * * *
END_USGS_HEADER *
