BEGIN_USGS_DOQ_HEADER *
QUADRANGLE_NAME "SAN BERNARDINO NORTH" *
QUADRANT NE *
NORTH_LATITUDE 34 15 00.000 *
WEST_LONGITUDE -117 18 45.000 *
SOUTH_LATITUDE 34 11 15.000 *
EAST_LONGITUDE -117 15 00.000 *
PRODUCTION_DATE 1998 09 22 *
RASTER_ORDER LEFT_RIGHT/TOP_BOTTOM *
BAND_ORGANIZATION "SINGLE FILE" *
BAND_CONTENT BLACK&WHITE *
BITS_PER_PIXEL 8 *
SAMPLES_AND_LINES 6480 7560 *
HORIZONTAL_DATUM NAD83 *
HORIZONTAL_COORDINATE_SYSTEM UTM *
COORDINATE_ZONE 11 *
HORIZONTAL_UNITS METERS *
HORIZONTAL_RESOLUTION 1.000 *
SECONDARY_HORIZONTAL_DATUM NAD27 *
XY_ORIGIN 470820.000 3790230.000 *
SECONDARY_XY_ORIGIN 470900.204 3790033.823 *
NATION US *
STATE CA *
NW_QUAD_CORNER_XY 471226.067 3789920.210 *
NE_QUAD_CORNER_XY 476980.869 3789904.311 *
SE_QUAD_CORNER_XY 476963.864 3782974.163 *
SW_QUAD_CORNER_XY 471204.811 3782990.048 *
SECONDARY_NW_QUAD_XY 471225.415 3789724.963 *
SECONDARY_NE_QUAD_XY 476980.347 3789709.063 *
SECONDARY_SE_QUAD_XY 476963.343 3782779.114 *
SECONDARY_SW_QUAD_XY 471204.159 3782794.999 *
RMSE_XY 2.437 *
IMAGE_SOURCE "BLACK AND WHITE FILM" *
SOURCE_IMAGE_ID "NAPP 6865 172" *
SOURCE_IMAGE_DATE 1994 06 01 *
SOURCE_IMAGE_ID "NAPP 6865 170" *
SOURCE_IMAGE_DATE 1994 06 01 *
SOURCE_IMAGE_ID "NAPP 6864 173" *
SOURCE_IMAGE_DATE 1994 05 31 *
SOURCE_IMAGE_ID "NAPP 6875 99" *
SOURCE_IMAGE_DATE 1995 10 03 *
SOURCE_DEM_DATE 1952 01 01 *
AGENCY "WESTERN MAPPING CENTER (WMC)" *
PRODUCER "ANALYTICAL SURVEYS INC." *
PRODUCTION_SYSTEM "ORBIT OR_RECTIFY V.5.2" *
STANDARD_VERSION 1996 12 *
METADATA_DATE 1998 11 10 *
DATA_FILE_SIZE 48995280 *
BYTE_COUNT 6480 * * * * * * * * * * * * * * * * * * * * * * * * * * * * * * * *
END_USGS_HEADER *
