BEGIN_USGS_DOQ_HEADER *
QUADRANGLE_NAME "SAN BERNARDINO NORTH" *
QUADRANT SW *
NORTH_LATITUDE 34 11 15.000 *
WEST_LONGITUDE -117 22 30.000 *
SOUTH_LATITUDE 34 07 30.000 *
EAST_LONGITUDE -117 18 45.000 *
PRODUCTION_DATE 1998 09 22 *
RASTER_ORDER LEFT_RIGHT/TOP_BOTTOM *
BAND_ORGANIZATION "SINGLE FILE" *
BAND_CONTENT BLACK&WHITE *
BITS_PER_PIXEL 8 *
SAMPLES_AND_LINES 6480 7590 *
HORIZONTAL_DATUM NAD83 *
HORIZONTAL_COORDINATE_SYSTEM UTM *
COORDINATE_ZONE 11 *
HORIZONTAL_UNITS METERS *
HORIZONTAL_RESOLUTION 1.000 *
SECONDARY_HORIZONTAL_DATUM NAD27 *
XY_ORIGIN 465030.000 3783330.000 *
SECONDARY_XY_ORIGIN 465110.292 3783133.724 *
NATION US *
STATE CA *
NW_QUAD_CORNER_XY 465445.745 3783009.463 *
NE_QUAD_CORNER_XY 471204.811 3782990.048 *
SE_QUAD_CORNER_XY 471183.589 3776059.957 *
SW_QUAD_CORNER_XY 465420.279 3776079.355 *
SECONDARY_NW_QUAD_XY 465444.963 3782814.415 *
SECONDARY_NE_QUAD_XY 471204.159 3782794.999 *
SECONDARY_SE_QUAD_XY 471182.938 3775865.107 *
SECONDARY_SW_QUAD_XY 465419.497 3775884.506 *
RMSE_XY 0.964 *
IMAGE_SOURCE "BLACK AND WHITE FILM" *
SOURCE_IMAGE_ID "NAPP 6875 97" *
SOURCE_IMAGE_DATE 1995 10 03 *
SOURCE_DEM_DATE 1952 01 01 *
AGENCY "WESTERN MAPPING CENTER (WMC)" *
PRODUCER "ANALYTICAL SURVEYS INC." *
PRODUCTION_SYSTEM "ORBIT OR_RECTIFY V.5.2" *
STANDARD_VERSION 1996 12 *
METADATA_DATE 1998 11 10 *
DATA_FILE_SIZE 49189680 *
BYTE_COUNT 6480 * * * * * * * * * * * * * * * * * * * * * * * * * * * * * * * * * * * * * *
END_USGS_HEADER *
