BEGIN_USGS_DOQ_HEADER *
QUADRANGLE_NAME "DEVORE" *
QUADRANT NW *
NORTH_LATITUDE 34 15 00.000 *
WEST_LONGITUDE -117 30 00.000 *
SOUTH_LATITUDE 34 11 15.000 *
EAST_LONGITUDE -117 26 15.000 *
PRODUCTION_DATE 1998 09 21 *
RASTER_ORDER LEFT_RIGHT/TOP_BOTTOM *
BAND_ORGANIZATION "SINGLE FILE" *
BAND_CONTENT BLACK&WHITE *
BITS_PER_PIXEL 8 *
SAMPLES_AND_LINES 6480 7590 *
HORIZONTAL_DATUM NAD83 *
HORIZONTAL_COORDINATE_SYSTEM UTM *
COORDINATE_ZONE 11 *
HORIZONTAL_UNITS METERS *
HORIZONTAL_RESOLUTION 1.000 *
SECONDARY_HORIZONTAL_DATUM NAD27 *
XY_ORIGIN 453540.000 3790320.000 *
SECONDARY_XY_ORIGIN 453620.405 3790123.627 *
NATION US *
STATE CA *
NW_QUAD_CORNER_XY 453961.576 3789989.105 *
NE_QUAD_CORNER_XY 459716.423 3789962.606 *
SE_QUAD_CORNER_XY 459686.664 3783032.408 *
SW_QUAD_CORNER_XY 453927.565 3783058.884 *
SECONDARY_NW_QUAD_XY 453960.532 3789793.859 *
SECONDARY_NE_QUAD_XY 459715.510 3789767.360 *
SECONDARY_SE_QUAD_XY 459685.751 3782837.360 *
SECONDARY_SW_QUAD_XY 453926.522 3782863.837 *
RMSE_XY 2.365 *
IMAGE_SOURCE "BLACK AND WHITE FILM" *
SOURCE_IMAGE_ID "NAPP 6864 180" *
SOURCE_IMAGE_DATE 1994 05 31 *
SOURCE_DEM_DATE 1952 01 01 *
AGENCY "WESTERN MAPPING CENTER (WMC)" *
PRODUCER "ANALYTICAL SURVEYS INC." *
PRODUCTION_SYSTEM "ORBIT OR_RECTIFY V.5.2" *
STANDARD_VERSION 1996 12 *
METADATA_DATE 1998 09 22 *
DATA_FILE_SIZE 49189680 *
BYTE_COUNT 6480 * * * * * * * * * * * * * * * * * * * * * * * * * * * * * * * * * * * * * *
END_USGS_HEADER *
