BEGIN_USGS_DOQ_HEADER *
QUADRANGLE_NAME "CUCAMONGA PEAK" *
QUADRANT NW *
NORTH_LATITUDE 34 15 00.000 *
WEST_LONGITUDE -117 37 30.000 *
SOUTH_LATITUDE 34 11 15.000 *
EAST_LONGITUDE -117 33 45.000 *
PRODUCTION_DATE 1998 09 21 *
RASTER_ORDER LEFT_RIGHT/TOP_BOTTOM *
BAND_ORGANIZATION "SINGLE FILE" *
BAND_CONTENT BLACK&WHITE *
BITS_PER_PIXEL 8 *
SAMPLES_AND_LINES 6510 7620 *
HORIZONTAL_DATUM NAD83 *
HORIZONTAL_COORDINATE_SYSTEM UTM *
COORDINATE_ZONE 11 *
HORIZONTAL_UNITS METERS *
HORIZONTAL_RESOLUTION 1.000 *
SECONDARY_HORIZONTAL_DATUM NAD27 *
XY_ORIGIN 442020.000 3790380.000 *
SECONDARY_XY_ORIGIN 442100.438 3790183.633 *
NATION US *
STATE CA *
NW_QUAD_CORNER_XY 442451.818 3790052.702 *
NE_QUAD_CORNER_XY 448206.708 3790019.137 *
SE_QUAD_CORNER_XY 448168.446 3783088.890 *
SW_QUAD_CORNER_XY 442409.303 3783122.426 *
SECONDARY_NW_QUAD_XY 442450.513 3789857.458 *
SECONDARY_NE_QUAD_XY 448205.534 3789823.892 *
SECONDARY_SE_QUAD_XY 448167.272 3782893.843 *
SECONDARY_SW_QUAD_XY 442408.000 3782927.380 *
RMSE_XY 3.197 *
IMAGE_SOURCE "BLACK AND WHITE FILM" *
SOURCE_IMAGE_ID "NAPP 6874 93" *
SOURCE_IMAGE_DATE 1995 10 02 *
SOURCE_IMAGE_ID "NAPP 6874 94" *
SOURCE_IMAGE_DATE 1995 10 02 *
SOURCE_IMAGE_ID "NAPP 6874 95" *
SOURCE_IMAGE_DATE 1995 10 02 *
SOURCE_DEM_DATE 1952 01 01 *
AGENCY "WESTERN MAPPING CENTER (WMC)" *
PRODUCER "ANALYTICAL SURVEYS INC." *
PRODUCTION_SYSTEM "ORBIT OR_RECTIFY V.5.2" *
STANDARD_VERSION 1996 12 *
METADATA_DATE 1998 09 22 *
DATA_FILE_SIZE 49612710 *
BYTE_COUNT 6510 * * * * * * * * * * * * * * * * * * * * * * * * * * * * * * * * * * *
END_USGS_HEADER *
