BEGIN_USGS_DOQ_HEADER *
QUADRANGLE_NAME "MOUNT BALDY" 3.45 or 7.5-min. name*
QUADRANT SE quadrant indicator if cell size = 3.75-minutes*
WEST_LONGITUDE -117 41 15.000 signed deg min sec SDDD MM SS.SSS*
EAST_LONGITUDE -117 37 30.000 signed deg min sec SDDD MM SS.SSS*
NORTH_LATITUDE 34 11 15.000 signed deg min sec SDDD MM SS.SSS*
SOUTH_LATITUDE 34 7 30.000 signed deg min sec SDDD MM SS.SSS*
PRODUCTION_DATE 1996 6 24 yyyy mm dd*
RASTER_ORDER LEFT_RIGHT/TOP_BOTTOM video display order*
BAND_ORGANIZATION "SINGLE FILE" single file or BSQ, or BIL or BIP*
BAND_CONTENT BLACK&WHITE black&white or red green blue*
BITS_PER_PIXEL 8 radiometric resolution*
SAMPLES_AND_LINES 6488 7572 number of columns and rows*
HORIZONTAL_DATUM NAD83 primary horizontal datum*
HORIZONTAL_COORDINATE_SYSTEM UTM *
COORDINATE_ZONE 11 coordinate system zone number*
HORIZONTAL_UNITS METERS coordinate system units*
HORIZONTAL_RESOLUTION 1.00 pixel horiz. ground sample distance*
SECONDARY_HORIZONTAL_DATUM NAD27 secondary horizontal datum*
XY_ORIGIN 436220.000 3783462.000 coord. of upper left pixel pri. datum*
SECONDARY_XY_ORIGIN 436300.000 3783266.000 coord upper left pixel sec datum*
NATION US nation code*
STATE CA state fip code*
NW_QUAD_CORNER_XY 436650.136 3783159.493 XY coords. of pri. NW quad corner*
NE_QUAD_CORNER_XY 442409.303 3783122.426 XY coords. of pri. NE quad corner*
SE_QUAD_CORNER_XY 442366.858 3776192.220 XY coords. of pri. SE quad corner*
SW_QUAD_CORNER_XY 436603.445 3776229.255 XY coords. of pri. SW quad corner*
SECONDARY_NW_QUAD_XY 436648.702 3782964.448 XY coords. - sec. NW quad cor.*
SECONDARY_NE_QUAD_XY 442408.000 3782927.380 XY coords. - sec. NE quad cor.*
SECONDARY_SE_QUAD_XY 442365.555 3775997.373 XY coords. - sec. SE quad cor.*
SECONDARY_SW_QUAD_XY 436602.012 3776034.408 XY coords. - sec. SW quad cor.*
RMSE_XY 2.00 doq horiz. accuracy*
IMAGE_SOURCE "BLACK AND WHITE FILM" b&w, cir, natural color, other*
SOURCE_IMAGE_ID "NAPP 6851 151" source image id*
SOURCE_IMAGE_DATE 1994 5 28 source image date as yyyy mm dd*
SOURCE_DEM_DATE 1996 6 24 source dem date yyyy mm dd*
AGENCY "WESTERN MAPPING CENTER (WMC)" oversight agency*
PRODUCER "USDA FS GEOMETRONICS SERVICE CENTER" *
PRODUCTION_SYSTEM "DV2.6.1 6/95OV2.4 5/95" production system*
STANDARD_VERSION 1996 12 version of DOQ standard*
METADATA_DATE 1998 12 29 date created or changed, yyyy mm dd*
DATA_FILE_SIZE 49133624 data set size in bytes*
BYTE_COUNT 6488 header byte count* * * * * * * * * * * * * * * * * * * * * * * * * * * * * * * * * * * * * * *
END_USGS_HEADER *
