BEGIN_USGS_DOQ_HEADER *
QUADRANGLE_NAME "GLENDORA" 3.45 or 7.5-min. name*
QUADRANT SW quadrant indicator if cell size = 3.75-minutes*
WEST_LONGITUDE -117 52 30.000 signed deg min sec SDDD MM SS.SSS*
EAST_LONGITUDE -117 48 45.000 signed deg min sec SDDD MM SS.SSS*
NORTH_LATITUDE 34 11 15.000 signed deg min sec SDDD MM SS.SSS*
SOUTH_LATITUDE 34 7 30.000 signed deg min sec SDDD MM SS.SSS*
PRODUCTION_DATE 1996 6 21 yyyy mm dd*
RASTER_ORDER LEFT_RIGHT/TOP_BOTTOM video display order*
BAND_ORGANIZATION "SINGLE FILE" single file or BSQ, or BIL or BIP*
BAND_CONTENT BLACK&WHITE black&white or red green blue*
BITS_PER_PIXEL 8 radiometric resolution*
SAMPLES_AND_LINES 6505 7583 number of columns and rows*
HORIZONTAL_DATUM NAD83 primary horizontal datum*
HORIZONTAL_COORDINATE_SYSTEM UTM *
COORDINATE_ZONE 11 coordinate system zone number*
HORIZONTAL_UNITS METERS coordinate system units*
HORIZONTAL_RESOLUTION 1.00 pixel horiz. ground sample distance*
SECONDARY_HORIZONTAL_DATUM NAD27 secondary horizontal datum*
XY_ORIGIN 418930.000 3783598.000 coord. of upper left pixel pri. datum*
SECONDARY_XY_ORIGIN 419010.650 3783401.600 coord upper left pixel sec datum*
NATION US nation code*
STATE CA state fip code*
NW_QUAD_CORNER_XY 419372.540 3783291.850 XY coords. of pri. NW quad corner*
NE_QUAD_CORNER_XY 425131.800 3783244.190 XY coords. of pri. NE quad corner*
SE_QUAD_CORNER_XY 425076.620 3776313.880 XY coords. of pri. SE quad corner*
SW_QUAD_CORNER_XY 419313.110 3776361.500 XY coords. of pri. SW quad corner*
SECONDARY_NW_QUAD_XY 419370.710 3783096.810 XY coords. - sec. NW quad cor.*
SECONDARY_NE_QUAD_XY 425130.100 3783049.150 XY coords. - sec. NE quad cor.*
SECONDARY_SE_QUAD_XY 425074.920 3776119.030 XY coords. - sec. SE quad cor.*
SECONDARY_SW_QUAD_XY 419311.290 3776166.650 XY coords. - sec. SW quad cor.*
RMSE_XY 2.10 doq horiz. accuracy*
IMAGE_SOURCE "BLACK AND WHITE FILM" b&w, cir, natural color, other*
SOURCE_IMAGE_ID "NAPP 6862 53" source image id*
SOURCE_IMAGE_DATE 1994 6 1 source image date as yyyy mm dd*
IMAGE_SOURCE "BLACK AND WHITE FILM" b&w, cir, natural color, other*
SOURCE_IMAGE_ID "NAPP 6862 52" source image id*
SOURCE_IMAGE_DATE 1994 6 1 source image date as yyyy mm dd*
IMAGE_SOURCE "BLACK AND WHITE FILM" b&w, cir, natural color, other*
SOURCE_IMAGE_ID "NAPP 6862 23" source image id*
SOURCE_IMAGE_DATE 1994 6 1 source image date as yyyy mm dd*
SOURCE_DEM_DATE 1996 6 21 source dem date yyyy mm dd*
AGENCY "WESTERN MAPPING CENTER (WMC)" oversight agency*
PRODUCER "USDA FS GEOMETRONICS SERVICE CENTER" *
PRODUCTION_SYSTEM "DV2.6.1 6/95OV2.4 5/95" production system*
STANDARD_VERSION 1996 12 version of DOQ standard*
METADATA_DATE 1998 12 29 date created or changed, yyyy mm dd*
DATA_FILE_SIZE 49333920 data set size in bytes*
BYTE_COUNT 6505 header byte count* * * * * * * * * * * * * * * * * * * * * * * * * * * * * * * * *
END_USGS_HEADER *
