BEGIN_USGS_DOQ_HEADER *
QUADRANGLE_NAME "AZUSA" 3.45 or 7.5-min. name*
QUADRANT SE quadrant indicator if cell size = 3.75-minutes*
WEST_LONGITUDE -117 56 15.000 signed deg min sec SDDD MM SS.SSS*
EAST_LONGITUDE -117 52 30.000 signed deg min sec SDDD MM SS.SSS*
NORTH_LATITUDE 34 11 15.000 signed deg min sec SDDD MM SS.SSS*
SOUTH_LATITUDE 34 7 30.000 signed deg min sec SDDD MM SS.SSS*
PRODUCTION_DATE 1996 12 3 yyyy mm dd*
RASTER_ORDER LEFT_RIGHT/TOP_BOTTOM video display order*
BAND_ORGANIZATION "SINGLE FILE" single file or BSQ, or BIL or BIP*
BAND_CONTENT BLACK&WHITE black&white or red green blue*
BITS_PER_PIXEL 8 radiometric resolution*
SAMPLES_AND_LINES 6509 7586 number of columns and rows*
HORIZONTAL_DATUM NAD83 primary horizontal datum*
HORIZONTAL_COORDINATE_SYSTEM UTM *
COORDINATE_ZONE 11 coordinate system zone number*
HORIZONTAL_UNITS METERS coordinate system units*
HORIZONTAL_RESOLUTION 1.00 pixel horiz. ground sample distance*
SECONDARY_HORIZONTAL_DATUM NAD27 secondary horizontal datum*
XY_ORIGIN 413166.000 3783649.000 coord. of upper left pixel pri. datum*
SECONDARY_XY_ORIGIN 413246.720 3783452.600 coord upper left pixel sec datum*
NATION US nation code*
STATE CA state fip code*
NW_QUAD_CORNER_XY 413613.240 3783343.040 XY coords. of pri. NW quad corner*
NE_QUAD_CORNER_XY 419372.540 3783291.850 XY coords. of pri. NE quad corner*
SE_QUAD_CORNER_XY 419313.110 3776361.500 XY coords. of pri. SE quad corner*
SW_QUAD_CORNER_XY 413549.570 3776412.640 XY coords. of pri. SW quad corner*
SECONDARY_NW_QUAD_XY 413611.290 3783148.000 XY coords. - sec. NW quad cor.*
SECONDARY_NE_QUAD_XY 419370.710 3783096.810 XY coords. - sec. NE quad cor.*
SECONDARY_SE_QUAD_XY 419311.290 3776166.650 XY coords. - sec. SE quad cor.*
SECONDARY_SW_QUAD_XY 413547.620 3776217.800 XY coords. - sec. SW quad cor.*
RMSE_XY 2.00 doq horiz. accuracy*
IMAGE_SOURCE "BLACK AND WHITE FILM" b&w, cir, natural color, other*
SOURCE_IMAGE_ID "NAPP 6862 93" source image id*
SOURCE_IMAGE_DATE 1994 6 1 source image date as yyyy mm dd*
IMAGE_SOURCE "BLACK AND WHITE FILM" b&w, cir, natural color, other*
SOURCE_IMAGE_ID "NAPP 6862 124" source image id*
SOURCE_IMAGE_DATE 1994 6 1 source image date as yyyy mm dd*
SOURCE_DEM_DATE 1996 12 3 source dem date yyyy mm dd*
AGENCY "WESTERN MAPPING CENTER (WMC)" oversight agency*
PRODUCER "USDA FS GEOMETRONICS SERVICE CENTER" *
PRODUCTION_SYSTEM "DV2.6.3 10/9OV2.4 5/95" production system*
STANDARD_VERSION 1996 12 version of DOQ standard*
METADATA_DATE 1998 12 29 date created or changed, yyyy mm dd*
DATA_FILE_SIZE 49383783 data set size in bytes*
BYTE_COUNT 6509 header byte count* * * * * * * * * * * * * * * * * * * * * * * * * * * * * * * * * * * *
END_USGS_HEADER *
