BEGIN_USGS_DOQ_HEADER *
QUADRANGLE_NAME "BUTLER PEAK" *
QUADRANT NE *
NORTH_LATITUDE 34 22 30.000 *
WEST_LONGITUDE -117 03 45.000 *
SOUTH_LATITUDE 34 18 45.000 *
EAST_LONGITUDE -117 00 00.000 *
PRODUCTION_DATE 1998 05 14 *
RASTER_ORDER LEFT_RIGHT/TOP_BOTTOM *
BAND_ORGANIZATION "SINGLE FILE" *
BAND_CONTENT BLACK&WHITE *
BITS_PER_PIXEL 8 *
SAMPLES_AND_LINES 6450 7560 *
HORIZONTAL_DATUM NAD83 *
HORIZONTAL_COORDINATE_SYSTEM UTM *
COORDINATE_ZONE 11 *
HORIZONTAL_UNITS METERS *
HORIZONTAL_RESOLUTION 1.000 *
SECONDARY_HORIZONTAL_DATUM NAD27 *
XY_ORIGIN 493860.000 3804060.000 *
SECONDARY_XY_ORIGIN 493940.033 3803864.046 *
NATION US *
STATE CA *
NW_QUAD_CORNER_XY 494253.746 3803738.275 *
NE_QUAD_CORNER_XY 500000.000 3803736.506 *
SE_QUAD_CORNER_XY 500000.000 3796806.241 *
SW_QUAD_CORNER_XY 494249.482 3796808.009 *
SECONDARY_NW_QUAD_XY 494253.616 3803542.633 *
SECONDARY_NE_QUAD_XY 500000.000 3803540.864 *
SECONDARY_SE_QUAD_XY 500000.000 3796610.795 *
SECONDARY_SW_QUAD_XY 494249.351 3796612.563 *
RMSE_XY 1.894 *
IMAGE_SOURCE "BLACK AND WHITE FILM" *
SOURCE_IMAGE_ID "NAPP 6874 101" *
SOURCE_IMAGE_DATE 1995 10 02 *
SOURCE_IMAGE_ID "NAPP 6880 90" *
SOURCE_IMAGE_DATE 1995 10 07 *
SOURCE_DEM_DATE 1969 01 01 *
AGENCY "WESTERN MAPPING CENTER (WMC)" *
PRODUCER "ANALYTICAL SURVEYS INC." *
PRODUCTION_SYSTEM "ORBIT OR_RECTIFY V.5.2" *
STANDARD_VERSION 1996 12 *
METADATA_DATE 1998 05 14 *
DATA_FILE_SIZE 48768450 *
BYTE_COUNT 6450 * * * * * * * * * * * * * * * * * * * * * * * * * * * * * * * * * * * *
END_USGS_HEADER *
