BEGIN_USGS_DOQ_HEADER *
QUADRANGLE_NAME "CAJON" *
QUADRANT SE *
NORTH_LATITUDE 34 18 45.000 *
WEST_LONGITUDE -117 26 15.000 *
SOUTH_LATITUDE 34 15 00.000 *
EAST_LONGITUDE -117 22 30.000 *
PRODUCTION_DATE 1998 05 13 *
RASTER_ORDER LEFT_RIGHT/TOP_BOTTOM *
BAND_ORGANIZATION "SINGLE FILE" *
BAND_CONTENT BLACK&WHITE *
BITS_PER_PIXEL 8 *
SAMPLES_AND_LINES 6480 7590 *
HORIZONTAL_DATUM NAD83 *
HORIZONTAL_COORDINATE_SYSTEM UTM *
COORDINATE_ZONE 11 *
HORIZONTAL_UNITS METERS *
HORIZONTAL_RESOLUTION 1.000 *
SECONDARY_HORIZONTAL_DATUM NAD27 *
XY_ORIGIN 459330.000 3797220.000 *
SECONDARY_XY_ORIGIN 459410.255 3797023.808 *
NATION US *
STATE CA *
NW_QUAD_CORNER_XY 459746.230 3796892.875 *
NE_QUAD_CORNER_XY 465496.801 3796869.890 *
SE_QUAD_CORNER_XY 465471.253 3789939.641 *
SW_QUAD_CORNER_XY 459716.423 3789962.606 *
SECONDARY_NW_QUAD_XY 459745.316 3796697.432 *
SECONDARY_NE_QUAD_XY 465496.018 3796674.446 *
SECONDARY_SE_QUAD_XY 465470.470 3789744.395 *
SECONDARY_SW_QUAD_XY 459715.510 3789767.360 *
RMSE_XY 2.079 *
IMAGE_SOURCE "BLACK AND WHITE FILM" *
SOURCE_IMAGE_ID "NAPP 6875 108" *
SOURCE_IMAGE_DATE 1995 10 03 *
SOURCE_IMAGE_ID "NAPP 6875 109" *
SOURCE_IMAGE_DATE 1995 10 03 *
SOURCE_IMAGE_ID "NAPP 6864 182" *
SOURCE_IMAGE_DATE 1994 05 31 *
SOURCE_DEM_DATE 1988 01 01 *
AGENCY "WESTERN MAPPING CENTER (WMC)" *
PRODUCER "ANALYTICAL SURVEYS INC." *
PRODUCTION_SYSTEM "ORBIT OR_RECTIFY V.5.2" *
STANDARD_VERSION 1996 12 *
METADATA_DATE 1998 05 14 *
DATA_FILE_SIZE 49189680 *
BYTE_COUNT 6480 * * * * * * * * * * * * * * * * * * * * * * * * * * * * * * * * * *
END_USGS_HEADER *
