BEGIN_USGS_DOQ_HEADER *
QUADRANGLE_NAME "BALDY MESA" *
QUADRANT NW *
NORTH_LATITUDE 34 30 00.000 *
WEST_LONGITUDE -117 30 00.000 *
SOUTH_LATITUDE 34 26 15.000 *
EAST_LONGITUDE -117 26 15.000 *
PRODUCTION_DATE 1998 05 07 *
RASTER_ORDER LEFT_RIGHT/TOP_BOTTOM *
BAND_ORGANIZATION "SINGLE FILE" *
BAND_CONTENT BLACK&WHITE *
BITS_PER_PIXEL 8 *
SAMPLES_AND_LINES 6480 7590 *
HORIZONTAL_DATUM NAD83 *
HORIZONTAL_COORDINATE_SYSTEM UTM *
COORDINATE_ZONE 11 *
HORIZONTAL_UNITS METERS *
HORIZONTAL_RESOLUTION 1.000 *
SECONDARY_HORIZONTAL_DATUM NAD27 *
XY_ORIGIN 453660.000 3818040.000 *
SECONDARY_XY_ORIGIN 453739.974 3817844.248 *
NATION US *
STATE CA *
NW_QUAD_CORNER_XY 454098.167 3817710.692 *
NE_QUAD_CORNER_XY 459835.939 3817684.104 *
SE_QUAD_CORNER_XY 459805.988 3810753.623 *
SW_QUAD_CORNER_XY 454063.937 3810780.190 *
SECONDARY_NW_QUAD_XY 454097.119 3817514.662 *
SECONDARY_NE_QUAD_XY 459835.022 3817488.073 *
SECONDARY_SE_QUAD_XY 459805.072 3810557.788 *
SECONDARY_SW_QUAD_XY 454062.890 3810584.355 *
RMSE_XY 1.405 *
IMAGE_SOURCE "BLACK AND WHITE FILM" *
SOURCE_IMAGE_ID "NAPP 6875 201" *
SOURCE_IMAGE_DATE 1995 10 04 *
SOURCE_DEM_DATE 1952 01 01 *
AGENCY "WESTERN MAPPING CENTER (WMC)" *
PRODUCER "ANALYTICAL SURVEYS INC." *
PRODUCTION_SYSTEM "ORBIT OR_RECTIFY V.5.2" *
STANDARD_VERSION 1996 12 *
METADATA_DATE 1998 05 08 *
DATA_FILE_SIZE 49189680 *
BYTE_COUNT 6480 * * * * * * * * * * * * * * * * * * * * * * * * * * * * * * * * * * * * * *
END_USGS_HEADER *
