BEGIN_USGS_DOQ_HEADER *
QUADRANGLE_NAME "JUNIPER HILLS" 3.45 or 7.5-min. name*
QUADRANT NE quadrant indicator if cell size = 3.75-minutes*
WEST_LONGITUDE -117 56 15.000 signed deg min sec SDDD MM SS.SSS*
EAST_LONGITUDE -117 52 30.000 signed deg min sec SDDD MM SS.SSS*
NORTH_LATITUDE 34 30 0.000 signed deg min sec SDDD MM SS.SSS*
SOUTH_LATITUDE 34 26 15.000 signed deg min sec SDDD MM SS.SSS*
PRODUCTION_DATE 1996 6 4 yyyy mm dd*
RASTER_ORDER LEFT_RIGHT/TOP_BOTTOM video display order*
BAND_ORGANIZATION "SINGLE FILE" single file or BSQ, or BIL or BIP*
BAND_CONTENT BLACK&WHITE black&white or red green blue*
BITS_PER_PIXEL 8 radiometric resolution*
SAMPLES_AND_LINES 6488 7585 number of columns and rows*
HORIZONTAL_DATUM NAD83 primary horizontal datum*
HORIZONTAL_COORDINATE_SYSTEM UTM *
COORDINATE_ZONE 11 coordinate system zone number*
HORIZONTAL_UNITS METERS coordinate system units*
HORIZONTAL_RESOLUTION 1.00 pixel horiz. ground sample distance*
SECONDARY_HORIZONTAL_DATUM NAD27 secondary horizontal datum*
XY_ORIGIN 413485.000 3818297.000 coord. of upper left pixel pri. datum*
SECONDARY_XY_ORIGIN 413565.676 3818100.864 coord upper left pixel sec datum*
NATION US nation code*
STATE CA state fip code*
NW_QUAD_CORNER_XY 413933.069 3817996.095 XY coords. of pri. NW quad corner*
NE_QUAD_CORNER_XY 419671.032 3817944.685 XY coords. of pri. NE quad corner*
SE_QUAD_CORNER_XY 419611.124 3811013.985 XY coords. of pri. SE quad corner*
SW_QUAD_CORNER_XY 413868.882 3811065.352 XY coords. of pri. SW quad corner*
SECONDARY_NW_QUAD_XY 413931.105 3817800.072 XY coords. - sec. NW quad cor.*
SECONDARY_NE_QUAD_XY 419669.198 3817748.660 XY coords. - sec. NE quad cor.*
SECONDARY_SE_QUAD_XY 419609.293 3810818.156 XY coords. - sec. SE quad cor.*
SECONDARY_SW_QUAD_XY 413866.919 3810869.523 XY coords. - sec. SW quad cor.*
RMSE_XY 1.10 doq horiz. accuracy*
IMAGE_SOURCE "BLACK AND WHITE FILM" b&w, cir, natural color, other*
SOURCE_IMAGE_ID "NAPP 6862 103" source image id*
SOURCE_IMAGE_DATE 1994 6 1 source image date as yyyy mm dd*
SOURCE_DEM_DATE 1996 6 4 source dem date yyyy mm dd*
AGENCY "WESTERN MAPPING CENTER (WMC)" oversight agency*
PRODUCER "USDA FS GEOMETRONICS SERVICE CENTER" *
PRODUCTION_SYSTEM "DV2.6.1 6/95OV2.4 5/95" production system*
STANDARD_VERSION 1996 12 version of DOQ standard*
METADATA_DATE 1998 12 29 date created or changed, yyyy mm dd*
DATA_FILE_SIZE 49217968 data set size in bytes*
BYTE_COUNT 6488 header byte count* * * * * * * * * * * * * * * * * * * * * * * * * * * * * * * * * * * * * * *
END_USGS_HEADER *
