BEGIN_USGS_DOQ_HEADER *
QUADRANGLE_NAME "FAIRVIEW VALLEY" *
QUADRANT SE *
NORTH_LATITUDE 34 33 45.000 *
WEST_LONGITUDE -117 03 45.000 *
SOUTH_LATITUDE 34 30 00.000 *
EAST_LONGITUDE -117 00 00.000 *
PRODUCTION_DATE 1998 05 11 *
RASTER_ORDER LEFT_RIGHT/TOP_BOTTOM *
BAND_ORGANIZATION "SINGLE FILE" *
BAND_CONTENT BLACK&WHITE *
BITS_PER_PIXEL 8 *
SAMPLES_AND_LINES 6450 7560 *
HORIZONTAL_DATUM NAD83 *
HORIZONTAL_COORDINATE_SYSTEM UTM *
COORDINATE_ZONE 11 *
HORIZONTAL_UNITS METERS *
HORIZONTAL_RESOLUTION 1.000 *
SECONDARY_HORIZONTAL_DATUM NAD27 *
XY_ORIGIN 493860.000 3824850.000 *
SECONDARY_XY_ORIGIN 493939.936 3824654.217 *
NATION US *
STATE CA *
NW_QUAD_CORNER_XY 494266.582 3824529.500 *
NE_QUAD_CORNER_XY 500000.000 3824527.726 *
SE_QUAD_CORNER_XY 500000.000 3817597.248 *
SW_QUAD_CORNER_XY 494262.297 3817599.021 *
SECONDARY_NW_QUAD_XY 494266.451 3824333.273 *
SECONDARY_NE_QUAD_XY 500000.000 3824331.499 *
SECONDARY_SE_QUAD_XY 500000.000 3817401.216 *
SECONDARY_SW_QUAD_XY 494262.166 3817402.988 *
RMSE_XY 1.902 *
IMAGE_SOURCE "BLACK AND WHITE FILM" *
SOURCE_IMAGE_ID "NAPP 6864 138" *
SOURCE_IMAGE_DATE 1994 05 31 *
SOURCE_DEM_DATE 1993 01 01 *
AGENCY "WESTERN MAPPING CENTER (WMC)" *
PRODUCER "ANALYTICAL SURVEYS INC." *
PRODUCTION_SYSTEM "ORBIT OR_RECTIFY V.5.2" *
STANDARD_VERSION 1996 12 *
METADATA_DATE 1998 05 12 *
DATA_FILE_SIZE 48768450 *
BYTE_COUNT 6450 * * * * * * * * * * * * * * * * * * * * * * * * * * * * * * * * * * * * * *
END_USGS_HEADER *
