BEGIN_USGS_DOQ_HEADER *
QUADRANGLE_NAME "VICTORVILLE" *
QUADRANT NE *
NORTH_LATITUDE 34 37 30.000 *
WEST_LONGITUDE -117 18 45.000 *
SOUTH_LATITUDE 34 33 45.000 *
EAST_LONGITUDE -117 15 00.000 *
PRODUCTION_DATE 1998 05 07 *
RASTER_ORDER LEFT_RIGHT/TOP_BOTTOM *
BAND_ORGANIZATION "SINGLE FILE" *
BAND_CONTENT BLACK&WHITE *
BITS_PER_PIXEL 8 *
SAMPLES_AND_LINES 6450 7560 *
HORIZONTAL_DATUM NAD83 *
HORIZONTAL_COORDINATE_SYSTEM UTM *
COORDINATE_ZONE 11 *
HORIZONTAL_UNITS METERS *
HORIZONTAL_RESOLUTION 1.000 *
SECONDARY_HORIZONTAL_DATUM NAD27 *
XY_ORIGIN 470940.000 3831810.000 *
SECONDARY_XY_ORIGIN 471019.989 3831614.282 *
NATION US *
STATE CA *
NW_QUAD_CORNER_XY 471354.323 3831502.663 *
NE_QUAD_CORNER_XY 477083.473 3831486.683 *
SE_QUAD_CORNER_XY 477066.304 3824556.110 *
SW_QUAD_CORNER_XY 471332.862 3824572.077 *
SECONDARY_NW_QUAD_XY 471353.667 3831306.243 *
SECONDARY_NE_QUAD_XY 477082.949 3831290.263 *
SECONDARY_SE_QUAD_XY 477065.780 3824359.884 *
SECONDARY_SW_QUAD_XY 471332.206 3824375.851 *
RMSE_XY 1.707 *
IMAGE_SOURCE "BLACK AND WHITE FILM" *
SOURCE_IMAGE_ID "NAPP 6855 34" *
SOURCE_IMAGE_DATE 1994 05 29 *
SOURCE_DEM_DATE 1993 01 01 *
AGENCY "WESTERN MAPPING CENTER (WMC)" *
PRODUCER "ANALYTICAL SURVEYS INC." *
PRODUCTION_SYSTEM "ORBIT OR_RECTIFY V.5.2" *
STANDARD_VERSION 1996 12 *
METADATA_DATE 1998 05 07 *
DATA_FILE_SIZE 48768450 *
BYTE_COUNT 6450 * * * * * * * * * * * * * * * * * * * * * * * * * * * * * * * * * * * * * *
END_USGS_HEADER *
