BEGIN_USGS_DOQ_HEADER *
QUADRANGLE_NAME "ADELANTO" *
QUADRANT SE *
NORTH_LATITUDE 34 33 45.000 *
WEST_LONGITUDE -117 26 15.000 *
SOUTH_LATITUDE 34 30 00.000 *
EAST_LONGITUDE -117 22 30.000 *
PRODUCTION_DATE 1998 05 07 *
RASTER_ORDER LEFT_RIGHT/TOP_BOTTOM *
BAND_ORGANIZATION "SINGLE FILE" *
BAND_CONTENT BLACK&WHITE *
BITS_PER_PIXEL 8 *
SAMPLES_AND_LINES 6450 7590 *
HORIZONTAL_DATUM NAD83 *
HORIZONTAL_COORDINATE_SYSTEM UTM *
COORDINATE_ZONE 11 *
HORIZONTAL_UNITS METERS *
HORIZONTAL_RESOLUTION 1.000 *
SECONDARY_HORIZONTAL_DATUM NAD27 *
XY_ORIGIN 459450.000 3824940.000 *
SECONDARY_XY_ORIGIN 459530.003 3824744.262 *
NATION US *
STATE CA *
NW_QUAD_CORNER_XY 459865.938 3824614.654 *
NE_QUAD_CORNER_XY 465599.407 3824591.591 *
SE_QUAD_CORNER_XY 465573.694 3817661.060 *
SW_QUAD_CORNER_XY 459835.939 3817684.104 *
SECONDARY_NW_QUAD_XY 459865.020 3824418.429 *
SECONDARY_NE_QUAD_XY 465598.621 3824395.366 *
SECONDARY_SE_QUAD_XY 465572.908 3817465.029 *
SECONDARY_SW_QUAD_XY 459835.022 3817488.073 *
RMSE_XY 1.135 *
IMAGE_SOURCE "BLACK AND WHITE FILM" *
SOURCE_IMAGE_ID "NAPP 6854 36" *
SOURCE_IMAGE_DATE 1994 05 28 *
SOURCE_DEM_DATE 1993 01 01 *
AGENCY "WESTERN MAPPING CENTER (WMC)" *
PRODUCER "ANALYTICAL SURVEYS INC." *
PRODUCTION_SYSTEM "ORBIT OR_RECTIFY V.5.2" *
STANDARD_VERSION 1996 12 *
METADATA_DATE 1998 05 07 *
DATA_FILE_SIZE 48961950 *
BYTE_COUNT 6450 * * * * * * * * * * * * * * * * * * * * * * * * * * * * * * * * * * * * * *
END_USGS_HEADER *
