BEGIN_USGS_DOQ_HEADER *
QUADRANGLE_NAME "SHADOW MOUNTAINS SE" *
QUADRANT SW *
NORTH_LATITUDE 34 33 45.000 *
WEST_LONGITUDE -117 37 30.000 *
SOUTH_LATITUDE 34 30 00.000 *
EAST_LONGITUDE -117 33 45.000 *
PRODUCTION_DATE 1998 05 07 *
RASTER_ORDER LEFT_RIGHT/TOP_BOTTOM *
BAND_ORGANIZATION "SINGLE FILE" *
BAND_CONTENT BLACK&WHITE *
BITS_PER_PIXEL 8 *
SAMPLES_AND_LINES 6480 7590 *
HORIZONTAL_DATUM NAD83 *
HORIZONTAL_COORDINATE_SYSTEM UTM *
COORDINATE_ZONE 11 *
HORIZONTAL_UNITS METERS *
HORIZONTAL_RESOLUTION 1.000 *
SECONDARY_HORIZONTAL_DATUM NAD27 *
XY_ORIGIN 442230.000 3825030.000 *
SECONDARY_XY_ORIGIN 442310.270 3824834.101 *
NATION US *
STATE CA *
NW_QUAD_CORNER_XY 442665.417 3824705.133 *
NE_QUAD_CORNER_XY 448398.945 3824671.425 *
SE_QUAD_CORNER_XY 448360.375 3817740.827 *
SW_QUAD_CORNER_XY 442622.560 3817774.507 *
SECONDARY_NW_QUAD_XY 442664.106 3824508.910 *
SECONDARY_NE_QUAD_XY 448397.766 3824475.201 *
SECONDARY_SE_QUAD_XY 448359.196 3817544.797 *
SECONDARY_SW_QUAD_XY 442621.251 3817578.478 *
RMSE_XY 1.099 *
IMAGE_SOURCE "BLACK AND WHITE FILM" *
SOURCE_IMAGE_ID "NAPP 6852 14" *
SOURCE_IMAGE_DATE 1994 05 28 *
SOURCE_DEM_DATE 1993 01 01 *
AGENCY "WESTERN MAPPING CENTER (WMC)" *
PRODUCER "ANALYTICAL SURVEYS INC." *
PRODUCTION_SYSTEM "ORBIT OR_RECTIFY V.5.2" *
STANDARD_VERSION 1996 12 *
METADATA_DATE 1998 05 07 *
DATA_FILE_SIZE 49189680 *
BYTE_COUNT 6480 * * * * * * * * * * * * * * * * * * * * * * * * * * * * * * * * * * * * * *
END_USGS_HEADER *
