BEGIN_USGS_DOQ_HEADER *
QUADRANGLE_NAME "LITTLEROCK" *
QUADRANT NE *
NORTH_LATITUDE 34 37 30.000 *
WEST_LONGITUDE -117 56 15.000 *
SOUTH_LATITUDE 34 33 45.000 *
EAST_LONGITUDE -117 52 30.000 *
PRODUCTION_DATE 1998 05 01 *
RASTER_ORDER LEFT_RIGHT/TOP_BOTTOM *
BAND_ORGANIZATION "SINGLE FILE" *
BAND_CONTENT BLACK&WHITE *
BITS_PER_PIXEL 8 *
SAMPLES_AND_LINES 6510 7620 *
HORIZONTAL_DATUM NAD83 *
HORIZONTAL_COORDINATE_SYSTEM UTM *
COORDINATE_ZONE 11 *
HORIZONTAL_UNITS METERS *
HORIZONTAL_RESOLUTION 1.000 *
SECONDARY_HORIZONTAL_DATUM NAD27 *
XY_ORIGIN 413610.000 3832170.000 *
SECONDARY_XY_ORIGIN 413690.581 3831974.036 *
NATION US *
STATE CA *
NW_QUAD_CORNER_XY 414061.752 3831857.789 *
NE_QUAD_CORNER_XY 419791.133 3831806.293 *
SE_QUAD_CORNER_XY 419731.035 3824875.454 *
SW_QUAD_CORNER_XY 413997.359 3824926.907 *
SECONDARY_NW_QUAD_XY 414059.784 3831661.377 *
SECONDARY_NE_QUAD_XY 419789.297 3831609.880 *
SECONDARY_SE_QUAD_XY 419729.200 3824679.235 *
SECONDARY_SW_QUAD_XY 413995.393 3824730.689 *
RMSE_XY 0.728 *
IMAGE_SOURCE "BLACK AND WHITE FILM" *
SOURCE_IMAGE_ID "NAPP 6875 275" *
SOURCE_IMAGE_DATE 1995 10 04 *
SOURCE_DEM_DATE 1955 01 01 *
AGENCY "WESTERN MAPPING CENTER (WMC)" *
PRODUCER "ANALYTICAL SURVEYS INC." *
PRODUCTION_SYSTEM "ORBIT OR_RECTIFY V.5.2" *
STANDARD_VERSION 1996 12 *
METADATA_DATE 1998 05 03 *
DATA_FILE_SIZE 49612710 *
BYTE_COUNT 6510 * * * * * * * * * * * * * * * * * * * * * * * * * * * * * * * * * * * * * * *
END_USGS_HEADER *
