BEGIN_USGS_DOQ_HEADER *
QUADRANGLE_NAME "STODDARD WELL" *
QUADRANT SE *
NORTH_LATITUDE 34 41 15.000 *
WEST_LONGITUDE -117 03 45.000 *
SOUTH_LATITUDE 34 37 30.000 *
EAST_LONGITUDE -117 00 00.000 *
PRODUCTION_DATE 1998 05 08 *
RASTER_ORDER LEFT_RIGHT/TOP_BOTTOM *
BAND_ORGANIZATION "SINGLE FILE" *
BAND_CONTENT BLACK&WHITE *
BITS_PER_PIXEL 8 *
SAMPLES_AND_LINES 6420 7560 *
HORIZONTAL_DATUM NAD83 *
HORIZONTAL_COORDINATE_SYSTEM UTM *
COORDINATE_ZONE 11 *
HORIZONTAL_UNITS METERS *
HORIZONTAL_RESOLUTION 1.000 *
SECONDARY_HORIZONTAL_DATUM NAD27 *
XY_ORIGIN 493890.000 3838710.000 *
SECONDARY_XY_ORIGIN 493969.890 3838514.384 *
NATION US *
STATE CA *
NW_QUAD_CORNER_XY 494275.174 3838390.672 *
NE_QUAD_CORNER_XY 500000.000 3838388.895 *
SE_QUAD_CORNER_XY 500000.000 3831458.275 *
SW_QUAD_CORNER_XY 494270.874 3831460.050 *
SECONDARY_NW_QUAD_XY 494275.042 3838194.059 *
SECONDARY_NE_QUAD_XY 500000.000 3838192.282 *
SECONDARY_SE_QUAD_XY 500000.000 3831261.855 *
SECONDARY_SW_QUAD_XY 494270.743 3831263.630 *
RMSE_XY 1.867 *
IMAGE_SOURCE "BLACK AND WHITE FILM" *
SOURCE_IMAGE_ID "NAPP 6873 169" *
SOURCE_IMAGE_DATE 1995 10 01 *
SOURCE_DEM_DATE 1970 01 01 *
AGENCY "WESTERN MAPPING CENTER (WMC)" *
PRODUCER "ANALYTICAL SURVEYS INC." *
PRODUCTION_SYSTEM "ORBIT OR_RECTIFY V.5.2" *
STANDARD_VERSION 1996 12 *
METADATA_DATE 1998 05 11 *
DATA_FILE_SIZE 48541620 *
BYTE_COUNT 6420 * * * * * * * * * * * * * * * * * * * * * * * * * * * * * * * * * * * * * *
END_USGS_HEADER *
