BEGIN_USGS_DOQ_HEADER *
QUADRANGLE_NAME "ADOBE MOUNTAIN" *
QUADRANT NW *
NORTH_LATITUDE 34 45 00.000 *
WEST_LONGITUDE -117 45 00.000 *
SOUTH_LATITUDE 34 41 15.000 *
EAST_LONGITUDE -117 41 15.000 *
PRODUCTION_DATE 1998 05 04 *
RASTER_ORDER LEFT_RIGHT/TOP_BOTTOM *
BAND_ORGANIZATION "SINGLE FILE" *
BAND_CONTENT BLACK&WHITE *
BITS_PER_PIXEL 8 *
SAMPLES_AND_LINES 6510 7590 *
HORIZONTAL_DATUM NAD83 *
HORIZONTAL_COORDINATE_SYSTEM UTM *
COORDINATE_ZONE 11 *
HORIZONTAL_UNITS METERS *
HORIZONTAL_RESOLUTION 1.000 *
SECONDARY_HORIZONTAL_DATUM NAD27 *
XY_ORIGIN 430890.000 3845880.000 *
SECONDARY_XY_ORIGIN 430970.400 3845684.177 *
NATION US *
STATE CA *
NW_QUAD_CORNER_XY 431353.065 3845575.691 *
NE_QUAD_CORNER_XY 437073.745 3845534.783 *
SE_QUAD_CORNER_XY 437026.376 3838603.915 *
SW_QUAD_CORNER_XY 431301.390 3838644.789 *
SECONDARY_NW_QUAD_XY 431351.488 3845378.892 *
SECONDARY_NE_QUAD_XY 437072.299 3845337.984 *
SECONDARY_SE_QUAD_XY 437024.932 3838407.308 *
SECONDARY_SW_QUAD_XY 431299.814 3838448.182 *
RMSE_XY 0.990 *
IMAGE_SOURCE "BLACK AND WHITE FILM" *
SOURCE_IMAGE_ID "NAPP 6850 4" *
SOURCE_IMAGE_DATE 1994 05 28 *
SOURCE_DEM_DATE 1954 01 01 *
AGENCY "WESTERN MAPPING CENTER (WMC)" *
PRODUCER "ANALYTICAL SURVEYS INC." *
PRODUCTION_SYSTEM "ORBIT OR_RECTIFY V.5.2" *
STANDARD_VERSION 1996 12 *
METADATA_DATE 1998 05 05 *
DATA_FILE_SIZE 49417410 *
BYTE_COUNT 6510 * * * * * * * * * * * * * * * * * * * * * * * * * * * * * * * * * * * * * * *
END_USGS_HEADER *
