BEGIN_USGS_DOQ_HEADER *
QUADRANGLE_NAME "ADOBE MOUNTAIN" *
QUADRANT SE *
NORTH_LATITUDE 34 41 15.000 *
WEST_LONGITUDE -117 41 15.000 *
SOUTH_LATITUDE 34 37 30.000 *
EAST_LONGITUDE -117 37 30.000 *
PRODUCTION_DATE 1998 05 04 *
RASTER_ORDER LEFT_RIGHT/TOP_BOTTOM *
BAND_ORGANIZATION "SINGLE FILE" *
BAND_CONTENT BLACK&WHITE *
BITS_PER_PIXEL 8 *
SAMPLES_AND_LINES 6480 7590 *
HORIZONTAL_DATUM NAD83 *
HORIZONTAL_COORDINATE_SYSTEM UTM *
COORDINATE_ZONE 11 *
HORIZONTAL_UNITS METERS *
HORIZONTAL_RESOLUTION 1.000 *
SECONDARY_HORIZONTAL_DATUM NAD27 *
XY_ORIGIN 436590.000 3838920.000 *
SECONDARY_XY_ORIGIN 436670.350 3838724.161 *
NATION US *
STATE CA *
NW_QUAD_CORNER_XY 437026.376 3838603.915 *
NE_QUAD_CORNER_XY 442751.336 3838566.597 *
SE_QUAD_CORNER_XY 442708.342 3831635.830 *
SW_QUAD_CORNER_XY 436979.083 3831673.118 *
SECONDARY_NW_QUAD_XY 437024.932 3838407.308 *
SECONDARY_NE_QUAD_XY 442750.023 3838369.988 *
SECONDARY_SE_QUAD_XY 442707.030 3831439.414 *
SECONDARY_SW_QUAD_XY 436977.640 3831476.702 *
RMSE_XY 0.739 *
IMAGE_SOURCE "BLACK AND WHITE FILM" *
SOURCE_IMAGE_ID "NAPP 6851 135" *
SOURCE_IMAGE_DATE 1994 05 28 *
SOURCE_DEM_DATE 1954 01 01 *
AGENCY "WESTERN MAPPING CENTER (WMC)" *
PRODUCER "ANALYTICAL SURVEYS INC." *
PRODUCTION_SYSTEM "ORBIT OR_RECTIFY V.5.2" *
STANDARD_VERSION 1996 12 *
METADATA_DATE 1998 05 05 *
DATA_FILE_SIZE 49189680 *
BYTE_COUNT 6480 * * * * * * * * * * * * * * * * * * * * * * * * * * * * * * * * * * * * * *
END_USGS_HEADER *
