BEGIN_USGS_DOQ_HEADER *
QUADRANGLE_NAME "HI VISTA" *
QUADRANT SE *
NORTH_LATITUDE 34 41 15.000 *
WEST_LONGITUDE -117 48 45.000 *
SOUTH_LATITUDE 34 37 30.000 *
EAST_LONGITUDE -117 45 00.000 *
PRODUCTION_DATE 1998 05 01 *
RASTER_ORDER LEFT_RIGHT/TOP_BOTTOM *
BAND_ORGANIZATION "SINGLE FILE" *
BAND_CONTENT BLACK&WHITE *
BITS_PER_PIXEL 8 *
SAMPLES_AND_LINES 6480 7620 *
HORIZONTAL_DATUM NAD83 *
HORIZONTAL_COORDINATE_SYSTEM UTM *
COORDINATE_ZONE 11 *
HORIZONTAL_UNITS METERS *
HORIZONTAL_RESOLUTION 1.000 *
SECONDARY_HORIZONTAL_DATUM NAD27 *
XY_ORIGIN 425130.000 3839010.000 *
SECONDARY_XY_ORIGIN 425210.466 3838814.106 *
NATION US *
STATE CA *
NW_QUAD_CORNER_XY 425576.375 3838689.217 *
NE_QUAD_CORNER_XY 431301.390 3838644.789 *
SE_QUAD_CORNER_XY 431249.796 3831713.957 *
SW_QUAD_CORNER_XY 425520.481 3831758.349 *
SECONDARY_NW_QUAD_XY 425574.668 3838492.611 *
SECONDARY_NE_QUAD_XY 431299.814 3838448.182 *
SECONDARY_SE_QUAD_XY 431248.222 3831517.543 *
SECONDARY_SW_QUAD_XY 425518.775 3831561.936 *
RMSE_XY 1.252 *
IMAGE_SOURCE "BLACK AND WHITE FILM" *
SOURCE_IMAGE_ID "NAPP 6850 89" *
SOURCE_IMAGE_DATE 1994 05 28 *
SOURCE_DEM_DATE 1955 01 01 *
AGENCY "WESTERN MAPPING CENTER (WMC)" *
PRODUCER "ANALYTICAL SURVEYS INC." *
PRODUCTION_SYSTEM "ORBIT OR_RECTIFY V.5.2" *
STANDARD_VERSION 1996 12 *
METADATA_DATE 1998 05 01 *
DATA_FILE_SIZE 49384080 *
BYTE_COUNT 6480 * * * * * * * * * * * * * * * * * * * * * * * * * * * * * * * * * * * * * *
END_USGS_HEADER *
