BEGIN_USGS_DOQ_HEADER *
QUADRANGLE_NAME "BARSTOW SE" *
QUADRANT NE *
NORTH_LATITUDE 34 52 30.000 *
WEST_LONGITUDE -117 03 45.000 *
SOUTH_LATITUDE 34 48 45.000 *
EAST_LONGITUDE -117 00 00.000 *
PRODUCTION_DATE 1998 05 08 *
RASTER_ORDER LEFT_RIGHT/TOP_BOTTOM *
BAND_ORGANIZATION "SINGLE FILE" *
BAND_CONTENT BLACK&WHITE *
BITS_PER_PIXEL 8 *
SAMPLES_AND_LINES 6420 7560 *
HORIZONTAL_DATUM NAD83 *
HORIZONTAL_COORDINATE_SYSTEM UTM *
COORDINATE_ZONE 11 *
HORIZONTAL_UNITS METERS *
HORIZONTAL_RESOLUTION 1.000 *
SECONDARY_HORIZONTAL_DATUM NAD27 *
XY_ORIGIN 493890.000 3859500.000 *
SECONDARY_XY_ORIGIN 493969.802 3859304.626 *
NATION US *
STATE CA *
NW_QUAD_CORNER_XY 494288.112 3859182.964 *
NE_QUAD_CORNER_XY 500000.000 3859181.183 *
SE_QUAD_CORNER_XY 500000.000 3852250.349 *
SW_QUAD_CORNER_XY 494283.792 3852252.129 *
SECONDARY_NW_QUAD_XY 494287.980 3858985.778 *
SECONDARY_NE_QUAD_XY 500000.000 3858983.997 *
SECONDARY_SE_QUAD_XY 500000.000 3852053.353 *
SECONDARY_SW_QUAD_XY 494283.661 3852055.133 *
RMSE_XY 1.301 *
IMAGE_SOURCE "BLACK AND WHITE FILM" *
SOURCE_IMAGE_ID "NAPP 6855 232" *
SOURCE_IMAGE_DATE 1994 05 29 *
SOURCE_DEM_DATE 1993 01 01 *
AGENCY "WESTERN MAPPING CENTER (WMC)" *
PRODUCER "ANALYTICAL SURVEYS INC." *
PRODUCTION_SYSTEM "ORBIT OR_RECTIFY V.5.2" *
STANDARD_VERSION 1996 12 *
METADATA_DATE 1998 05 08 *
DATA_FILE_SIZE 48541620 *
BYTE_COUNT 6420 * * * * * * * * * * * * * * * * * * * * * * * * * * * * * * * * * * * * * *
END_USGS_HEADER *
