BEGIN_USGS_DOQ_HEADER *
QUADRANGLE_NAME "BARSTOW SE" *
QUADRANT SW *
NORTH_LATITUDE 34 48 45.000 *
WEST_LONGITUDE -117 07 30.000 *
SOUTH_LATITUDE 34 45 00.000 *
EAST_LONGITUDE -117 03 45.000 *
PRODUCTION_DATE 1998 05 08 *
RASTER_ORDER LEFT_RIGHT/TOP_BOTTOM *
BAND_ORGANIZATION "SINGLE FILE" *
BAND_CONTENT BLACK&WHITE *
BITS_PER_PIXEL 8 *
SAMPLES_AND_LINES 6450 7560 *
HORIZONTAL_DATUM NAD83 *
HORIZONTAL_COORDINATE_SYSTEM UTM *
COORDINATE_ZONE 11 *
HORIZONTAL_UNITS METERS *
HORIZONTAL_RESOLUTION 1.000 *
SECONDARY_HORIZONTAL_DATUM NAD27 *
XY_ORIGIN 488160.000 3852570.000 *
SECONDARY_XY_ORIGIN 488239.856 3852374.546 *
NATION US *
STATE CA *
NW_QUAD_CORNER_XY 488567.582 3852257.468 *
NE_QUAD_CORNER_XY 494283.792 3852252.129 *
SE_QUAD_CORNER_XY 494279.479 3845321.365 *
SW_QUAD_CORNER_XY 488558.956 3845326.700 *
SECONDARY_NW_QUAD_XY 488567.319 3852060.473 *
SECONDARY_NE_QUAD_XY 494283.661 3852055.133 *
SECONDARY_SE_QUAD_XY 494279.348 3845124.560 *
SECONDARY_SW_QUAD_XY 488558.694 3845129.895 *
RMSE_XY 1.349 *
IMAGE_SOURCE "BLACK AND WHITE FILM" *
SOURCE_IMAGE_ID "NAPP 6855 144" *
SOURCE_IMAGE_DATE 1994 05 29 *
SOURCE_DEM_DATE 1993 01 01 *
AGENCY "WESTERN MAPPING CENTER (WMC)" *
PRODUCER "ANALYTICAL SURVEYS INC." *
PRODUCTION_SYSTEM "ORBIT OR_RECTIFY V.5.2" *
STANDARD_VERSION 1996 12 *
METADATA_DATE 1998 05 08 *
DATA_FILE_SIZE 48768450 *
BYTE_COUNT 6450 * * * * * * * * * * * * * * * * * * * * * * * * * * * * * * * * * * * * * *
END_USGS_HEADER *
