BEGIN_USGS_DOQ_HEADER *
QUADRANGLE_NAME "WILD CROSSING" *
QUADRANT SE *
NORTH_LATITUDE 34 48 45.000 *
WEST_LONGITUDE -117 18 45.000 *
SOUTH_LATITUDE 34 45 00.000 *
EAST_LONGITUDE -117 15 00.000 *
PRODUCTION_DATE 1998 04 26 *
RASTER_ORDER LEFT_RIGHT/TOP_BOTTOM *
BAND_ORGANIZATION "SINGLE FILE" *
BAND_CONTENT BLACK&WHITE *
BITS_PER_PIXEL 8 *
SAMPLES_AND_LINES 6450 7560 *
HORIZONTAL_DATUM NAD83 *
HORIZONTAL_COORDINATE_SYSTEM UTM *
COORDINATE_ZONE 11 *
HORIZONTAL_UNITS METERS *
HORIZONTAL_RESOLUTION 1.000 *
SECONDARY_HORIZONTAL_DATUM NAD27 *
XY_ORIGIN 471000.000 3852600.000 *
SECONDARY_XY_ORIGIN 471079.956 3852404.524 *
NATION US *
STATE CA *
NW_QUAD_CORNER_XY 471418.913 3852294.846 *
NE_QUAD_CORNER_XY 477135.145 3852278.827 *
SE_QUAD_CORNER_XY 477117.894 3845348.041 *
SW_QUAD_CORNER_XY 471397.349 3845364.047 *
SECONDARY_NW_QUAD_XY 471418.255 3852097.851 *
SECONDARY_NE_QUAD_XY 477134.619 3852081.832 *
SECONDARY_SE_QUAD_XY 477117.368 3845151.237 *
SECONDARY_SW_QUAD_XY 471396.692 3845167.243 *
RMSE_XY 0.747 *
IMAGE_SOURCE "BLACK AND WHITE FILM" *
SOURCE_IMAGE_ID "NAPP 6855 28" *
SOURCE_IMAGE_DATE 1994 05 29 *
SOURCE_DEM_DATE 1993 01 01 *
AGENCY "WESTERN MAPPING CENTER (WMC)" *
PRODUCER "ANALYTICAL SURVEYS INC." *
PRODUCTION_SYSTEM "ORBIT OR_RECTIFY V.5.2" *
STANDARD_VERSION 1996 12 *
METADATA_DATE 1998 04 28 *
DATA_FILE_SIZE 48768450 *
BYTE_COUNT 6450 * * * * * * * * * * * * * * * * * * * * * * * * * * * * * * * * * * * * * *
END_USGS_HEADER *
