BEGIN_USGS_DOQ_HEADER *
QUADRANGLE_NAME "JACKRABBIT HILL" *
QUADRANT SW *
NORTH_LATITUDE 34 48 45.000 *
WEST_LONGITUDE -117 45 00.000 *
SOUTH_LATITUDE 34 45 00.000 *
EAST_LONGITUDE -117 41 15.000 *
PRODUCTION_DATE 1998 04 30 *
RASTER_ORDER LEFT_RIGHT/TOP_BOTTOM *
BAND_ORGANIZATION "SINGLE FILE" *
BAND_CONTENT BLACK&WHITE *
BITS_PER_PIXEL 8 *
SAMPLES_AND_LINES 6480 7590 *
HORIZONTAL_DATUM NAD83 *
HORIZONTAL_COORDINATE_SYSTEM UTM *
COORDINATE_ZONE 11 *
HORIZONTAL_UNITS METERS *
HORIZONTAL_RESOLUTION 1.000 *
SECONDARY_HORIZONTAL_DATUM NAD27 *
XY_ORIGIN 430950.000 3852810.000 *
SECONDARY_XY_ORIGIN 431030.352 3852614.272 *
NATION US *
STATE CA *
NW_QUAD_CORNER_XY 431404.823 3852506.662 *
NE_QUAD_CORNER_XY 437121.188 3852465.722 *
SE_QUAD_CORNER_XY 437073.745 3845534.783 *
SW_QUAD_CORNER_XY 431353.065 3845575.691 *
SECONDARY_NW_QUAD_XY 431403.244 3852309.672 *
SECONDARY_NE_QUAD_XY 437119.741 3852268.731 *
SECONDARY_SE_QUAD_XY 437072.299 3845337.984 *
SECONDARY_SW_QUAD_XY 431351.488 3845378.892 *
RMSE_XY 1.207 *
IMAGE_SOURCE "BLACK AND WHITE FILM" *
SOURCE_IMAGE_ID "NAPP 6850 6" *
SOURCE_IMAGE_DATE 1994 05 28 *
SOURCE_DEM_DATE 1972 01 01 *
AGENCY "WESTERN MAPPING CENTER (WMC)" *
PRODUCER "ANALYTICAL SURVEYS INC." *
PRODUCTION_SYSTEM "ORBIT OR_RECTIFY V.5.2" *
STANDARD_VERSION 1996 12 *
METADATA_DATE 1998 04 30 *
DATA_FILE_SIZE 49189680 *
BYTE_COUNT 6480 * * * * * * * * * * * * * * * * * * * * * * * * * * * * * * * * * * * * * *
END_USGS_HEADER *
