BEGIN_USGS_DOQ_HEADER *
QUADRANGLE_NAME "ROGERS LAKE SOUTH" *
QUADRANT NE *
NORTH_LATITUDE 34 52 30.000 *
WEST_LONGITUDE -117 48 45.000 *
SOUTH_LATITUDE 34 48 45.000 *
EAST_LONGITUDE -117 45 00.000 *
PRODUCTION_DATE 1998 05 01 *
RASTER_ORDER LEFT_RIGHT/TOP_BOTTOM *
BAND_ORGANIZATION "SINGLE FILE" *
BAND_CONTENT BLACK&WHITE *
BITS_PER_PIXEL 8 *
SAMPLES_AND_LINES 6480 7620 *
HORIZONTAL_DATUM NAD83 *
HORIZONTAL_COORDINATE_SYSTEM UTM *
COORDINATE_ZONE 11 *
HORIZONTAL_UNITS METERS *
HORIZONTAL_RESOLUTION 1.000 *
SECONDARY_HORIZONTAL_DATUM NAD27 *
XY_ORIGIN 425280.000 3859800.000 *
SECONDARY_XY_ORIGIN 425360.343 3859604.390 *
NATION US *
STATE CA *
NW_QUAD_CORNER_XY 425744.588 3859482.241 *
NE_QUAD_CORNER_XY 431456.662 3859437.704 *
SE_QUAD_CORNER_XY 431404.823 3852506.662 *
SW_QUAD_CORNER_XY 425688.428 3852551.163 *
SECONDARY_NW_QUAD_XY 425742.877 3859285.062 *
SECONDARY_NE_QUAD_XY 431455.082 3859240.524 *
SECONDARY_SE_QUAD_XY 431403.244 3852309.672 *
SECONDARY_SW_QUAD_XY 425686.718 3852354.174 *
RMSE_XY 0.770 *
IMAGE_SOURCE "BLACK AND WHITE FILM" *
SOURCE_IMAGE_ID "NAPP 6850 83" *
SOURCE_IMAGE_DATE 1994 05 28 *
SOURCE_DEM_DATE 1972 01 01 *
AGENCY "WESTERN MAPPING CENTER (WMC)" *
PRODUCER "ANALYTICAL SURVEYS INC." *
PRODUCTION_SYSTEM "ORBIT OR_RECTIFY V.5.2" *
STANDARD_VERSION 1996 12 *
METADATA_DATE 1998 05 01 *
DATA_FILE_SIZE 49384080 *
BYTE_COUNT 6480 * * * * * * * * * * * * * * * * * * * * * * * * * * * * * * * * * * * * * *
END_USGS_HEADER *
