BEGIN_USGS_DOQ_HEADER *
QUADRANGLE_NAME "HINKLEY" *
QUADRANT SE *
NORTH_LATITUDE 34 56 15.000 *
WEST_LONGITUDE -117 11 15.000 *
SOUTH_LATITUDE 34 52 30.000 *
EAST_LONGITUDE -117 07 30.000 *
PRODUCTION_DATE 1998 04 20 *
RASTER_ORDER LEFT_RIGHT/TOP_BOTTOM *
BAND_ORGANIZATION "SINGLE FILE" *
BAND_CONTENT BLACK&WHITE *
BITS_PER_PIXEL 8 *
SAMPLES_AND_LINES 6450 7560 *
HORIZONTAL_DATUM NAD83 *
HORIZONTAL_COORDINATE_SYSTEM UTM *
COORDINATE_ZONE 11 *
HORIZONTAL_UNITS METERS *
HORIZONTAL_RESOLUTION 1.000 *
SECONDARY_HORIZONTAL_DATUM NAD27 *
XY_ORIGIN 482460.000 3866430.000 *
SECONDARY_XY_ORIGIN 482539.864 3866234.671 *
NATION US *
STATE CA *
NW_QUAD_CORNER_XY 482877.305 3866128.133 *
NE_QUAD_CORNER_XY 488584.874 3866119.219 *
SE_QUAD_CORNER_XY 488576.221 3859188.308 *
SW_QUAD_CORNER_XY 482864.326 3859197.214 *
SECONDARY_NW_QUAD_XY 482876.909 3865930.758 *
SECONDARY_NE_QUAD_XY 488584.610 3865921.843 *
SECONDARY_SE_QUAD_XY 488575.958 3858991.122 *
SECONDARY_SW_QUAD_XY 482863.931 3859000.029 *
RMSE_XY 0.995 *
IMAGE_SOURCE "BLACK AND WHITE FILM" *
SOURCE_IMAGE_ID "NAPP 6855 167" *
SOURCE_IMAGE_DATE 1994 05 29 *
SOURCE_DEM_DATE 1993 01 01 *
AGENCY "WESTERN MAPPING CENTER (WMC)" *
PRODUCER "ANALYTICAL SURVEYS INC." *
PRODUCTION_SYSTEM "ORBIT OR_RECTIFY V.5.2" *
STANDARD_VERSION 1996 12 *
METADATA_DATE 1998 04 20 *
DATA_FILE_SIZE 48768450 *
BYTE_COUNT 6450 * * * * * * * * * * * * * * * * * * * * * * * * * * * * * * * * * * * * * *
END_USGS_HEADER *
