BEGIN_USGS_DOQ_HEADER *
QUADRANGLE_NAME "TOPANGA" *
QUADRANT NW *
NORTH_LATITUDE 34 07 30.000 *
WEST_LONGITUDE -118 37 30.000 *
SOUTH_LATITUDE 34 03 45.000 *
EAST_LONGITUDE -118 33 45.000 *
PRODUCTION_DATE 1998 09 03 *
RASTER_ORDER LEFT_RIGHT/TOP_BOTTOM *
BAND_ORGANIZATION "SINGLE FILE" *
BAND_CONTENT BLACK&WHITE *
BITS_PER_PIXEL 8 *
SAMPLES_AND_LINES 6570 7680 *
HORIZONTAL_DATUM NAD83 *
HORIZONTAL_COORDINATE_SYSTEM UTM *
COORDINATE_ZONE 11 *
HORIZONTAL_UNITS METERS *
HORIZONTAL_RESOLUTION 1.000 *
SECONDARY_HORIZONTAL_DATUM NAD27 *
XY_ORIGIN 349650.000 3777540.000 *
SECONDARY_XY_ORIGIN 349731.383 3777343.141 *
NATION US *
STATE CA *
NW_QUAD_CORNER_XY 350147.434 3777208.204 *
NE_QUAD_CORNER_XY 355911.539 3777118.232 *
SE_QUAD_CORNER_XY 355805.562 3770187.285 *
SW_QUAD_CORNER_XY 350037.214 3770277.178 *
SECONDARY_NW_QUAD_XY 350144.047 3777013.380 *
SECONDARY_NE_QUAD_XY 355908.282 3776923.406 *
SECONDARY_SE_QUAD_XY 355802.308 3769992.659 *
SECONDARY_SW_QUAD_XY 350033.831 3770082.554 *
RMSE_XY 3.178 *
IMAGE_SOURCE "BLACK AND WHITE FILM" *
SOURCE_IMAGE_ID "NAPP 6860 166" *
SOURCE_IMAGE_DATE 1994 06 01 *
SOURCE_IMAGE_ID "NAPP 6860 165" *
SOURCE_IMAGE_DATE 1994 06 01 *
SOURCE_IMAGE_ID "NAPP 6860 167" *
SOURCE_IMAGE_DATE 1994 06 01 *
SOURCE_IMAGE_ID "NAPP 6860 202" *
SOURCE_IMAGE_DATE 1994 06 01 *
SOURCE_IMAGE_ID "NAPP 6860 159" *
SOURCE_IMAGE_DATE 1994 06 01 *
SOURCE_DEM_DATE 1981 01 01 *
AGENCY "WESTERN MAPPING CENTER (WMC)" *
PRODUCER "ANALYTICAL SURVEYS INC." *
PRODUCTION_SYSTEM "ORBIT OR_RECTIFY V.5.2" *
STANDARD_VERSION 1996 12 *
METADATA_DATE 1998 09 11 *
DATA_FILE_SIZE 50464170 *
BYTE_COUNT 6570 * * * * * * * * * * * * * * * * * * * * * * * * * * * * * * * *
END_USGS_HEADER *
