BEGIN_USGS_DOQ_HEADER *
QUADRANGLE_NAME "TOPANGA" *
QUADRANT SW *
NORTH_LATITUDE 34 03 45.000 *
WEST_LONGITUDE -118 37 30.000 *
SOUTH_LATITUDE 34 00 00.000 *
EAST_LONGITUDE -118 33 45.000 *
PRODUCTION_DATE 1998 09 03 *
RASTER_ORDER LEFT_RIGHT/TOP_BOTTOM *
BAND_ORGANIZATION "SINGLE FILE" *
BAND_CONTENT BLACK&WHITE *
BITS_PER_PIXEL 8 *
SAMPLES_AND_LINES 6600 7650 *
HORIZONTAL_DATUM NAD83 *
HORIZONTAL_COORDINATE_SYSTEM UTM *
COORDINATE_ZONE 11 *
HORIZONTAL_UNITS METERS *
HORIZONTAL_RESOLUTION 1.000 *
SECONDARY_HORIZONTAL_DATUM NAD27 *
XY_ORIGIN 349530.000 3770580.000 *
SECONDARY_XY_ORIGIN 349611.317 3770383.191 *
NATION US *
STATE CA *
NW_QUAD_CORNER_XY 350037.214 3770277.178 *
NE_QUAD_CORNER_XY 355805.562 3770187.285 *
SE_QUAD_CORNER_XY 355699.756 3763256.403 *
SW_QUAD_CORNER_XY 349927.173 3763346.217 *
SECONDARY_NW_QUAD_XY 350033.831 3770082.554 *
SECONDARY_NE_QUAD_XY 355802.308 3769992.659 *
SECONDARY_SE_QUAD_XY 355696.506 3763061.977 *
SECONDARY_SW_QUAD_XY 349923.793 3763151.793 *
RMSE_XY 2.339 *
IMAGE_SOURCE "BLACK AND WHITE FILM" *
SOURCE_IMAGE_ID "NAPP 6860 164" *
SOURCE_IMAGE_DATE 1994 06 01 *
SOURCE_IMAGE_ID "NAPP 6860 165" *
SOURCE_IMAGE_DATE 1994 06 01 *
SOURCE_DEM_DATE 1981 01 01 *
AGENCY "WESTERN MAPPING CENTER (WMC)" *
PRODUCER "ANALYTICAL SURVEYS INC." *
PRODUCTION_SYSTEM "ORBIT OR_RECTIFY V.5.2" *
STANDARD_VERSION 1996 12 *
METADATA_DATE 1998 09 11 *
DATA_FILE_SIZE 50496600 *
BYTE_COUNT 6600 * * * * * * * * * * * * * * * * * * * * * * * * * * * * * * * * * * * * * *
END_USGS_HEADER *
