BEGIN_USGS_DOQ_HEADER *
QUADRANGLE_NAME "PASADENA" 3.45 or 7.5-min. name*
QUADRANT NW quadrant indicator if cell size = 3.75-minutes*
WEST_LONGITUDE -118 15 0.000 signed deg min sec SDDD MM SS.SSS*
EAST_LONGITUDE -118 11 15.000 signed deg min sec SDDD MM SS.SSS*
NORTH_LATITUDE 34 15 0.000 signed deg min sec SDDD MM SS.SSS*
SOUTH_LATITUDE 34 11 15.000 signed deg min sec SDDD MM SS.SSS*
PRODUCTION_DATE 1996 12 3 yyyy mm dd*
RASTER_ORDER LEFT_RIGHT/TOP_BOTTOM video display order*
BAND_ORGANIZATION "SINGLE FILE" single file or BSQ, or BIL or BIP*
BAND_CONTENT BLACK&WHITE black&white or red green blue*
BITS_PER_PIXEL 8 radiometric resolution*
SAMPLES_AND_LINES 6526 7597 number of columns and rows*
HORIZONTAL_DATUM NAD83 primary horizontal datum*
HORIZONTAL_COORDINATE_SYSTEM UTM *
COORDINATE_ZONE 11 coordinate system zone number*
HORIZONTAL_UNITS METERS coordinate system units*
HORIZONTAL_RESOLUTION 1.00 pixel horiz. ground sample distance*
SECONDARY_HORIZONTAL_DATUM NAD27 secondary horizontal datum*
XY_ORIGIN 384431.000 3790884.000 coord. of upper left pixel pri. datum*
SECONDARY_XY_ORIGIN 384512.100 3790687.420 coord upper left pixel sec datum*
NATION US nation code*
STATE CA state fip code*
NW_QUAD_CORNER_XY 384901.190 3790582.700 XY coords. of pri. NW quad corner*
NE_QUAD_CORNER_XY 390656.450 3790513.790 XY coords. of pri. NE quad corner*
SE_QUAD_CORNER_XY 390575.660 3783583.120 XY coords. of pri. SE quad corner*
SW_QUAD_CORNER_XY 384816.140 3783651.970 XY coords. of pri. SW quad corner*
SECONDARY_NW_QUAD_XY 384898.580 3790387.470 XY coords. - sec. NW quad cor.*
SECONDARY_NE_QUAD_XY 390653.970 3790318.560 XY coords. - sec. NE quad cor.*
SECONDARY_SE_QUAD_XY 390573.180 3783388.080 XY coords. - sec. SE quad cor.*
SECONDARY_SW_QUAD_XY 384813.540 3783456.940 XY coords. - sec. SW quad cor.*
RMSE_XY 3.30 doq horiz. accuracy*
IMAGE_SOURCE "BLACK AND WHITE FILM" b&w, cir, natural color, other*
SOURCE_IMAGE_ID "NAPP 6858 59" source image id*
SOURCE_IMAGE_DATE 1994 5 31 source image date as yyyy mm dd*
IMAGE_SOURCE "BLACK AND WHITE FILM" b&w, cir, natural color, other*
SOURCE_IMAGE_ID "NAPP 6858 61" source image id*
SOURCE_IMAGE_DATE 1994 5 31 source image date as yyyy mm dd*
IMAGE_SOURCE "BLACK AND WHITE FILM" b&w, cir, natural color, other*
SOURCE_IMAGE_ID "NAPP 6858 6864" source image id*
SOURCE_IMAGE_DATE 1994 5 31 source image date as yyyy mm dd*
IMAGE_SOURCE "BLACK AND WHITE FILM" b&w, cir, natural color, other*
SOURCE_IMAGE_ID "NAPP 6858 222" source image id*
SOURCE_IMAGE_DATE 1994 5 31 source image date as yyyy mm dd*
SOURCE_DEM_DATE 1996 12 3 source dem date yyyy mm dd*
AGENCY "WESTERN MAPPING CENTER (WMC)" oversight agency*
PRODUCER "USDA FS GEOMETRONICS SERVICE CENTER" *
PRODUCTION_SYSTEM "DV2.6.3 10/9OV2.4 5/95" production system*
STANDARD_VERSION 1996 12 version of DOQ standard*
METADATA_DATE 1998 12 29 date created or changed, yyyy mm dd*
DATA_FILE_SIZE 49584548 data set size in bytes*
BYTE_COUNT 6526 header byte count* * * * * * * * * * * * * * * * * * * * * * * * * * * * * *
END_USGS_HEADER *
