BEGIN_USGS_DOQ_HEADER *
QUADRANGLE_NAME "VAN NUYS" *
QUADRANT SW *
NORTH_LATITUDE 34 11 15.000 *
WEST_LONGITUDE -118 30 00.000 *
SOUTH_LATITUDE 34 07 30.000 *
EAST_LONGITUDE -118 26 15.000 *
PRODUCTION_DATE 1998 09 17 *
RASTER_ORDER LEFT_RIGHT/TOP_BOTTOM *
BAND_ORGANIZATION "SINGLE FILE" *
BAND_CONTENT BLACK&WHITE *
BITS_PER_PIXEL 8 *
SAMPLES_AND_LINES 6570 7650 *
HORIZONTAL_DATUM NAD83 *
HORIZONTAL_COORDINATE_SYSTEM UTM *
COORDINATE_ZONE 11 *
HORIZONTAL_UNITS METERS *
HORIZONTAL_RESOLUTION 1.000 *
SECONDARY_HORIZONTAL_DATUM NAD27 *
XY_ORIGIN 361290.000 3784290.000 *
SECONDARY_XY_ORIGIN 361371.410 3784093.196 *
NATION US *
STATE CA *
NW_QUAD_CORNER_XY 361777.479 3783962.729 *
NE_QUAD_CORNER_XY 367537.210 3783879.747 *
SE_QUAD_CORNER_XY 367439.558 3776948.882 *
SW_QUAD_CORNER_XY 361675.579 3777031.792 *
SECONDARY_NW_QUAD_XY 361774.350 3783767.702 *
SECONDARY_NE_QUAD_XY 367534.211 3783684.718 *
SECONDARY_SE_QUAD_XY 367436.563 3776754.052 *
SECONDARY_SW_QUAD_XY 361672.453 3776836.964 *
RMSE_XY 0.960 *
IMAGE_SOURCE "BLACK AND WHITE FILM" *
SOURCE_IMAGE_ID "NAPP 6875 27" *
SOURCE_IMAGE_DATE 1995 10 03 *
SOURCE_IMAGE_ID "NAPP 6875 24" *
SOURCE_IMAGE_DATE 1995 10 03 *
SOURCE_IMAGE_ID "NAPP 6860 108" *
SOURCE_IMAGE_DATE 1994 06 01 *
SOURCE_DEM_DATE 1972 01 01 *
AGENCY "WESTERN MAPPING CENTER (WMC)" *
PRODUCER "ANALYTICAL SURVEYS INC." *
PRODUCTION_SYSTEM "ORBIT OR_RECTIFY V.5.2" *
STANDARD_VERSION 1996 12 *
METADATA_DATE 1998 09 18 *
DATA_FILE_SIZE 50267070 *
BYTE_COUNT 6570 * * * * * * * * * * * * * * * * * * * * * * * * * * * * * * * * * * * *
END_USGS_HEADER *
