BEGIN_USGS_DOQ_HEADER *
QUADRANGLE_NAME "CALABASAS" *
QUADRANT NE *
NORTH_LATITUDE 34 15 00.000 *
WEST_LONGITUDE -118 41 15.000 *
SOUTH_LATITUDE 34 11 15.000 *
EAST_LONGITUDE -118 37 30.000 *
PRODUCTION_DATE 1998 08 26 *
RASTER_ORDER LEFT_RIGHT/TOP_BOTTOM *
BAND_ORGANIZATION "SINGLE FILE" *
BAND_CONTENT BLACK&WHITE *
BITS_PER_PIXEL 8 *
SAMPLES_AND_LINES 6570 7680 *
HORIZONTAL_DATUM NAD83 *
HORIZONTAL_COORDINATE_SYSTEM UTM *
COORDINATE_ZONE 11 *
HORIZONTAL_UNITS METERS *
HORIZONTAL_RESOLUTION 1.000 *
SECONDARY_HORIZONTAL_DATUM NAD27 *
XY_ORIGIN 344100.000 3791490.000 *
SECONDARY_XY_ORIGIN 344181.532 3791292.968 *
NATION US *
STATE CA *
NW_QUAD_CORNER_XY 344612.744 3791164.117 *
NE_QUAD_CORNER_XY 350368.409 3791070.451 *
SE_QUAD_CORNER_XY 350257.832 3784139.295 *
SW_QUAD_CORNER_XY 344497.911 3784232.879 *
SECONDARY_NW_QUAD_XY 344609.221 3790968.898 *
SECONDARY_NE_QUAD_XY 350365.016 3790875.230 *
SECONDARY_SE_QUAD_XY 350254.443 3783944.272 *
SECONDARY_SW_QUAD_XY 344494.391 3784037.859 *
RMSE_XY 1.974 *
IMAGE_SOURCE "BLACK AND WHITE FILM" *
SOURCE_IMAGE_ID "NAPP 6860 197" *
SOURCE_IMAGE_DATE 1994 06 01 *
SOURCE_IMAGE_ID "NAPP 6860 199" *
SOURCE_IMAGE_DATE 1994 06 01 *
SOURCE_DEM_DATE 1967 01 01 *
AGENCY "WESTERN MAPPING CENTER (WMC)" *
PRODUCER "ANALYTICAL SURVEYS INC." *
PRODUCTION_SYSTEM "ORBIT OR_RECTIFY V.5.2" *
STANDARD_VERSION 1996 12 *
METADATA_DATE 1998 08 27 *
DATA_FILE_SIZE 50464170 *
BYTE_COUNT 6570 * * * * * * * * * * * * * * * * * * * * * * * * * * * * * * * * * * * * * *
END_USGS_HEADER *
