BEGIN_USGS_DOQ_HEADER *
QUADRANGLE_NAME "CALABASAS" *
QUADRANT SE *
NORTH_LATITUDE 34 11 15.000 *
WEST_LONGITUDE -118 41 15.000 *
SOUTH_LATITUDE 34 07 30.000 *
EAST_LONGITUDE -118 37 30.000 *
PRODUCTION_DATE 1998 08 26 *
RASTER_ORDER LEFT_RIGHT/TOP_BOTTOM *
BAND_ORGANIZATION "SINGLE FILE" *
BAND_CONTENT BLACK&WHITE *
BITS_PER_PIXEL 8 *
SAMPLES_AND_LINES 6600 7680 *
HORIZONTAL_DATUM NAD83 *
HORIZONTAL_COORDINATE_SYSTEM UTM *
COORDINATE_ZONE 11 *
HORIZONTAL_UNITS METERS *
HORIZONTAL_RESOLUTION 1.000 *
SECONDARY_HORIZONTAL_DATUM NAD27 *
XY_ORIGIN 343980.000 3784560.000 *
SECONDARY_XY_ORIGIN 344061.467 3784363.040 *
NATION US *
STATE CA *
NW_QUAD_CORNER_XY 344497.911 3784232.879 *
NE_QUAD_CORNER_XY 350257.832 3784139.295 *
SE_QUAD_CORNER_XY 350147.434 3777208.204 *
SW_QUAD_CORNER_XY 344383.263 3777301.707 *
SECONDARY_NW_QUAD_XY 344494.391 3784037.859 *
SECONDARY_NE_QUAD_XY 350254.443 3783944.272 *
SECONDARY_SE_QUAD_XY 350144.047 3777013.380 *
SECONDARY_SW_QUAD_XY 344379.746 3777106.885 *
RMSE_XY 3.086 *
IMAGE_SOURCE "BLACK AND WHITE FILM" *
SOURCE_IMAGE_ID "NAPP 6860 199" *
SOURCE_IMAGE_DATE 1994 06 01 *
SOURCE_DEM_DATE 1967 01 01 *
AGENCY "WESTERN MAPPING CENTER (WMC)" *
PRODUCER "ANALYTICAL SURVEYS INC." *
PRODUCTION_SYSTEM "ORBIT OR_RECTIFY V.5.2" *
STANDARD_VERSION 1996 12 *
METADATA_DATE 1998 08 27 *
DATA_FILE_SIZE 50694600 *
BYTE_COUNT 6600 * * * * * * * * * * * * * * * * * * * * * * * * * * * * * * * * * * * * * * * *
END_USGS_HEADER *
