BEGIN_USGS_DOQ_HEADER *
QUADRANGLE_NAME "CHILAO FLAT" 3.45 or 7.5-min. name*
QUADRANT SE quadrant indicator if cell size = 3.75-minutes*
WEST_LONGITUDE -118 3 45.000 signed deg min sec SDDD MM SS.SSS*
EAST_LONGITUDE -118 0 0.000 signed deg min sec SDDD MM SS.SSS*
NORTH_LATITUDE 34 18 45.000 signed deg min sec SDDD MM SS.SSS*
SOUTH_LATITUDE 34 15 0.000 signed deg min sec SDDD MM SS.SSS*
PRODUCTION_DATE 1996 5 29 yyyy mm dd*
RASTER_ORDER LEFT_RIGHT/TOP_BOTTOM video display order*
BAND_ORGANIZATION "SINGLE FILE" single file or BSQ, or BIL or BIP*
BAND_CONTENT BLACK&WHITE black&white or red green blue*
BITS_PER_PIXEL 8 radiometric resolution*
SAMPLES_AND_LINES 6508 7593 number of columns and rows*
HORIZONTAL_DATUM NAD83 primary horizontal datum*
HORIZONTAL_COORDINATE_SYSTEM UTM *
COORDINATE_ZONE 11 coordinate system zone number*
HORIZONTAL_UNITS METERS coordinate system units*
HORIZONTAL_RESOLUTION 1.00 pixel horiz. ground sample distance*
SECONDARY_HORIZONTAL_DATUM NAD27 secondary horizontal datum*
XY_ORIGIN 401783.000 3797619.000 coord. of upper left pixel pri. datum*
SECONDARY_XY_ORIGIN 401863.818 3797422.650 coord upper left pixel sec datum*
NATION US nation code*
STATE CA state fip code*
NW_QUAD_CORNER_XY 402239.134 3797317.244 XY coords. of pri. NW quad corner*
NE_QUAD_CORNER_XY 407989.995 3797258.890 XY coords. of pri. NE quad corner*
SE_QUAD_CORNER_XY 407921.855 3790328.307 XY coords. of pri. SE quad corner*
SW_QUAD_CORNER_XY 402166.735 3790386.611 XY coords. of pri. SW quad corner*
SECONDARY_NW_QUAD_XY 402236.914 3797121.811 XY coords. - sec. NW quad cor.*
SECONDARY_NE_QUAD_XY 407987.905 3797063.455 XY coords. - sec. NE quad cor.*
SECONDARY_SE_QUAD_XY 407919.768 3790133.069 XY coords. - sec. SE quad cor.*
SECONDARY_SW_QUAD_XY 402164.517 3790191.375 XY coords. - sec. SW quad cor.*
RMSE_XY 4.50 doq horiz. accuracy*
IMAGE_SOURCE "BLACK AND WHITE FILM" b&w, cir, natural color, other*
SOURCE_IMAGE_ID "NAPP 6864 197" source image id*
SOURCE_IMAGE_DATE 1994 5 31 source image date as yyyy mm dd*
SOURCE_DEM_DATE 1996 5 29 source dem date yyyy mm dd*
AGENCY "WESTERN MAPPING CENTER (WMC)" oversight agency*
PRODUCER "USDA FS GEOMETRONICS SERVICE CENTER" *
PRODUCTION_SYSTEM "DV2.6.1 6/95OV2.4 5/95" production system*
STANDARD_VERSION 1996 12 version of DOQ standard*
METADATA_DATE 1998 12 29 date created or changed, yyyy mm dd*
DATA_FILE_SIZE 49421752 data set size in bytes*
BYTE_COUNT 6508 header byte count* * * * * * * * * * * * * * * * * * * * * * * * * * * * * * * * * * * * * * *
END_USGS_HEADER *
