BEGIN_USGS_DOQ_HEADER *
QUADRANGLE_NAME "SUNLAND" 3.45 or 7.5-min. name*
QUADRANT NE quadrant indicator if cell size = 3.75-minutes*
WEST_LONGITUDE -118 18 45.000 signed deg min sec SDDD MM SS.SSS*
EAST_LONGITUDE -118 15 0.000 signed deg min sec SDDD MM SS.SSS*
NORTH_LATITUDE 34 22 30.000 signed deg min sec SDDD MM SS.SSS*
SOUTH_LATITUDE 34 18 45.000 signed deg min sec SDDD MM SS.SSS*
PRODUCTION_DATE 1996 6 17 yyyy mm dd*
RASTER_ORDER LEFT_RIGHT/TOP_BOTTOM video display order*
BAND_ORGANIZATION "SINGLE FILE" single file or BSQ, or BIL or BIP*
BAND_CONTENT BLACK&WHITE black&white or red green blue*
BITS_PER_PIXEL 8 radiometric resolution*
SAMPLES_AND_LINES 6525 7608 number of columns and rows*
HORIZONTAL_DATUM NAD83 primary horizontal datum*
HORIZONTAL_COORDINATE_SYSTEM UTM *
COORDINATE_ZONE 11 coordinate system zone number*
HORIZONTAL_UNITS METERS coordinate system units*
HORIZONTAL_RESOLUTION 1.00 pixel horiz. ground sample distance*
SECONDARY_HORIZONTAL_DATUM NAD27 secondary horizontal datum*
XY_ORIGIN 378850.000 3804823.000 coord. of upper left pixel pri. datum*
SECONDARY_XY_ORIGIN 378931.110 3804626.540 coord upper left pixel sec datum*
NATION US nation code*
STATE CA state fip code*
NW_QUAD_CORNER_XY 379324.910 3804516.940 XY coords. of pri. NW quad corner*
NE_QUAD_CORNER_XY 385071.690 3804444.380 XY coords. of pri. NE quad corner*
SE_QUAD_CORNER_XY 384986.370 3797513.500 XY coords. of pri. SE quad corner*
SW_QUAD_CORNER_XY 379235.320 3797586.010 XY coords. of pri. SW quad corner*
SECONDARY_NW_QUAD_XY 379322.160 3804321.320 XY coords. - sec. NW quad cor.*
SECONDARY_NE_QUAD_XY 385069.070 3804248.750 XY coords. - sec. NE quad cor.*
SECONDARY_SE_QUAD_XY 384983.760 3797318.080 XY coords. - sec. SE quad cor.*
SECONDARY_SW_QUAD_XY 379232.580 3797390.580 XY coords. - sec. SW quad cor.*
RMSE_XY 2.30 doq horiz. accuracy*
IMAGE_SOURCE "BLACK AND WHITE FILM" b&w, cir, natural color, other*
SOURCE_IMAGE_ID "NAPP 6862 194" source image id*
SOURCE_IMAGE_DATE 1994 5 31 source image date as yyyy mm dd*
IMAGE_SOURCE "BLACK AND WHITE FILM" b&w, cir, natural color, other*
SOURCE_IMAGE_ID "NAPP 6862 6864" source image id*
SOURCE_IMAGE_DATE 1994 5 31 source image date as yyyy mm dd*
IMAGE_SOURCE "BLACK AND WHITE FILM" b&w, cir, natural color, other*
SOURCE_IMAGE_ID "NAPP 6862 224" source image id*
SOURCE_IMAGE_DATE 1994 5 31 source image date as yyyy mm dd*
SOURCE_DEM_DATE 1996 6 17 source dem date yyyy mm dd*
AGENCY "WESTERN MAPPING CENTER (WMC)" oversight agency*
PRODUCER "USDA FS GEOMETRONICS SERVICE CENTER" *
PRODUCTION_SYSTEM "DV2.6.1 6/95OV2.4 5/95" production system*
STANDARD_VERSION 1996 12 version of DOQ standard*
METADATA_DATE 1998 12 15 date created or changed, yyyy mm dd*
DATA_FILE_SIZE 49648725 data set size in bytes*
BYTE_COUNT 6525 header byte count* * * * * * * * * * * * * * * * * * * * * * * * * * * * * * * * *
END_USGS_HEADER *
