BEGIN_USGS_DOQ_HEADER *
QUADRANGLE_NAME "OAT MOUNTAIN" *
QUADRANT NW *
NORTH_LATITUDE 34 22 30.000 *
WEST_LONGITUDE -118 37 30.000 *
SOUTH_LATITUDE 34 18 45.000 *
EAST_LONGITUDE -118 33 45.000 *
PRODUCTION_DATE 1998 09 04 *
RASTER_ORDER LEFT_RIGHT/TOP_BOTTOM *
BAND_ORGANIZATION "SINGLE FILE" *
BAND_CONTENT BLACK&WHITE *
BITS_PER_PIXEL 8 *
SAMPLES_AND_LINES 6570 7650 *
HORIZONTAL_DATUM NAD83 *
HORIZONTAL_COORDINATE_SYSTEM UTM *
COORDINATE_ZONE 11 *
HORIZONTAL_UNITS METERS *
HORIZONTAL_RESOLUTION 1.000 *
SECONDARY_HORIZONTAL_DATUM NAD27 *
XY_ORIGIN 350070.000 3805260.000 *
SECONDARY_XY_ORIGIN 350151.348 3805063.232 *
NATION US *
STATE CA *
NW_QUAD_CORNER_XY 350590.097 3804932.959 *
NE_QUAD_CORNER_XY 356337.163 3804842.677 *
SE_QUAD_CORNER_XY 356230.500 3797911.467 *
SW_QUAD_CORNER_XY 350479.164 3798001.673 *
SECONDARY_NW_QUAD_XY 350586.698 3804737.344 *
SECONDARY_NE_QUAD_XY 356333.895 3804647.060 *
SECONDARY_SE_QUAD_XY 356227.235 3797716.047 *
SECONDARY_SW_QUAD_XY 350475.768 3797806.254 *
RMSE_XY 2.330 *
IMAGE_SOURCE "BLACK AND WHITE FILM" *
SOURCE_IMAGE_ID "NAPP 6860 174" *
SOURCE_IMAGE_DATE 1994 06 01 *
SOURCE_DEM_DATE 1969 01 01 *
AGENCY "WESTERN MAPPING CENTER (WMC)" *
PRODUCER "ANALYTICAL SURVEYS INC." *
PRODUCTION_SYSTEM "ORBIT OR_RECTIFY V.5.2" *
STANDARD_VERSION 1996 12 *
METADATA_DATE 1998 09 10 *
DATA_FILE_SIZE 50267070 *
BYTE_COUNT 6570 * * * * * * * * * * * * * * * * * * * * * * * * * * * * * * * * * * * * * * * *
END_USGS_HEADER *
