BEGIN_USGS_DOQ_HEADER *
QUADRANGLE_NAME "SIMI VALLEY WEST" *
QUADRANT NE *
NORTH_LATITUDE 34 22 30.000 *
WEST_LONGITUDE -118 48 45.000 *
SOUTH_LATITUDE 34 18 45.000 *
EAST_LONGITUDE -118 45 00.000 *
PRODUCTION_DATE 1998 09 12 *
RASTER_ORDER LEFT_RIGHT/TOP_BOTTOM *
BAND_ORGANIZATION "SINGLE FILE" *
BAND_CONTENT BLACK&WHITE *
BITS_PER_PIXEL 8 *
SAMPLES_AND_LINES 6600 7650 *
HORIZONTAL_DATUM NAD83 *
HORIZONTAL_COORDINATE_SYSTEM UTM *
COORDINATE_ZONE 11 *
HORIZONTAL_UNITS METERS *
HORIZONTAL_RESOLUTION 1.000 *
SECONDARY_HORIZONTAL_DATUM NAD27 *
XY_ORIGIN 332820.000 3805530.000 *
SECONDARY_XY_ORIGIN 332901.513 3805333.056 *
NATION US *
STATE CA *
NW_QUAD_CORNER_XY 333348.501 3805225.069 *
NE_QUAD_CORNER_XY 339095.769 3805124.155 *
SE_QUAD_CORNER_XY 338976.294 3798192.705 *
SW_QUAD_CORNER_XY 333224.755 3798293.533 *
SECONDARY_NW_QUAD_XY 333344.709 3805029.461 *
SECONDARY_NE_QUAD_XY 339092.108 3804928.544 *
SECONDARY_SE_QUAD_XY 338972.637 3797997.291 *
SECONDARY_SW_QUAD_XY 333220.967 3798098.121 *
RMSE_XY 2.386 *
IMAGE_SOURCE "BLACK AND WHITE FILM" *
SOURCE_IMAGE_ID "NAPP 6876 167" *
SOURCE_IMAGE_DATE 1995 10 04 *
SOURCE_IMAGE_ID "NAPP 6876 168" *
SOURCE_IMAGE_DATE 1995 10 04 *
SOURCE_IMAGE_ID "NAPP 6876 166" *
SOURCE_IMAGE_DATE 1995 10 04 *
SOURCE_IMAGE_ID "NAPP 6860 251" *
SOURCE_IMAGE_DATE 1994 06 01 *
SOURCE_IMAGE_ID "NAPP 6860 216" *
SOURCE_IMAGE_DATE 1994 06 01 *
SOURCE_DEM_DATE 1969 01 01 *
AGENCY "WESTERN MAPPING CENTER (WMC)" *
PRODUCER "ANALYTICAL SURVEYS INC." *
PRODUCTION_SYSTEM "ORBIT OR_RECTIFY V.5.2" *
STANDARD_VERSION 1996 12 *
METADATA_DATE 1998 09 15 *
DATA_FILE_SIZE 50496600 *
BYTE_COUNT 6600 * * * * * * * * * * * * * * * * * * * * * * * * * * * * * * * *
END_USGS_HEADER *
