BEGIN_USGS_DOQ_HEADER *
QUADRANGLE_NAME "SIMI VALLEY WEST" *
QUADRANT SE *
NORTH_LATITUDE 34 18 45.000 *
WEST_LONGITUDE -118 48 45.000 *
SOUTH_LATITUDE 34 15 00.000 *
EAST_LONGITUDE -118 45 00.000 *
PRODUCTION_DATE 1998 09 12 *
RASTER_ORDER LEFT_RIGHT/TOP_BOTTOM *
BAND_ORGANIZATION "SINGLE FILE" *
BAND_CONTENT BLACK&WHITE *
BITS_PER_PIXEL 8 *
SAMPLES_AND_LINES 6600 7650 *
HORIZONTAL_DATUM NAD83 *
HORIZONTAL_COORDINATE_SYSTEM UTM *
COORDINATE_ZONE 11 *
HORIZONTAL_UNITS METERS *
HORIZONTAL_RESOLUTION 1.000 *
SECONDARY_HORIZONTAL_DATUM NAD27 *
XY_ORIGIN 332700.000 3798600.000 *
SECONDARY_XY_ORIGIN 332781.575 3798402.941 *
NATION US *
STATE CA *
NW_QUAD_CORNER_XY 333224.755 3798293.533 *
NE_QUAD_CORNER_XY 338976.294 3798192.705 *
SE_QUAD_CORNER_XY 338857.011 3791261.320 *
SW_QUAD_CORNER_XY 333101.208 3791362.061 *
SECONDARY_NW_QUAD_XY 333220.967 3798098.121 *
SECONDARY_NE_QUAD_XY 338972.637 3797997.291 *
SECONDARY_SE_QUAD_XY 338853.357 3791066.103 *
SECONDARY_SW_QUAD_XY 333097.423 3791166.847 *
RMSE_XY 2.658 *
IMAGE_SOURCE "BLACK AND WHITE FILM" *
SOURCE_IMAGE_ID "NAPP 6876 169" *
SOURCE_IMAGE_DATE 1995 10 04 *
SOURCE_IMAGE_ID "NAPP 6876 168" *
SOURCE_IMAGE_DATE 1995 10 04 *
SOURCE_DEM_DATE 1969 01 01 *
AGENCY "WESTERN MAPPING CENTER (WMC)" *
PRODUCER "ANALYTICAL SURVEYS INC." *
PRODUCTION_SYSTEM "ORBIT OR_RECTIFY V.5.2" *
STANDARD_VERSION 1996 12 *
METADATA_DATE 1998 09 15 *
DATA_FILE_SIZE 50496600 *
BYTE_COUNT 6600 * * * * * * * * * * * * * * * * * * * * * * * * * * * * * * * * * * * * * *
END_USGS_HEADER *
