BEGIN_USGS_DOQ_HEADER *
QUADRANGLE_NAME "PACIFICO MOUNTAIN" 3.45 or 7.5-min. name*
QUADRANT SW quadrant indicator if cell size = 3.75-minutes*
WEST_LONGITUDE -118 7 30.000 signed deg min sec SDDD MM SS.SSS*
EAST_LONGITUDE -118 3 45.000 signed deg min sec SDDD MM SS.SSS*
NORTH_LATITUDE 34 26 15.000 signed deg min sec SDDD MM SS.SSS*
SOUTH_LATITUDE 34 22 30.000 signed deg min sec SDDD MM SS.SSS*
PRODUCTION_DATE 1996 6 13 yyyy mm dd*
RASTER_ORDER LEFT_RIGHT/TOP_BOTTOM video display order*
BAND_ORGANIZATION "SINGLE FILE" single file or BSQ, or BIL or BIP*
BAND_CONTENT BLACK&WHITE black&white or red green blue*
BITS_PER_PIXEL 8 radiometric resolution*
SAMPLES_AND_LINES 6504 7596 number of columns and rows*
HORIZONTAL_DATUM NAD83 primary horizontal datum*
HORIZONTAL_COORDINATE_SYSTEM UTM *
COORDINATE_ZONE 11 coordinate system zone number*
HORIZONTAL_UNITS METERS coordinate system units*
HORIZONTAL_RESOLUTION 1.00 pixel horiz. ground sample distance*
SECONDARY_HORIZONTAL_DATUM NAD27 secondary horizontal datum*
XY_ORIGIN 396181.000 3811542.000 coord. of upper left pixel pri. datum*
SECONDARY_XY_ORIGIN 396261.873 3811345.751 coord upper left pixel sec datum*
NATION US nation code*
STATE CA state fip code*
NW_QUAD_CORNER_XY 396641.921 3811240.714 XY coords. of pri. NW quad corner*
NE_QUAD_CORNER_XY 402384.282 3811178.716 XY coords. of pri. NE quad corner*
SE_QUAD_CORNER_XY 402311.650 3804247.946 XY coords. of pri. SE quad corner*
SW_QUAD_CORNER_XY 396565.014 3804309.891 XY coords. of pri. SW quad corner*
SECONDARY_NW_QUAD_XY 396639.565 3811044.890 XY coords. - sec. NW quad cor.*
SECONDARY_NE_QUAD_XY 402382.058 3810982.890 XY coords. - sec. NE quad cor.*
SECONDARY_SE_QUAD_XY 402309.428 3804052.316 XY coords. - sec. SE quad cor.*
SECONDARY_SW_QUAD_XY 396562.661 3804114.263 XY coords. - sec. SW quad cor.*
RMSE_XY 3.00 doq horiz. accuracy*
IMAGE_SOURCE "BLACK AND WHITE FILM" b&w, cir, natural color, other*
SOURCE_IMAGE_ID "NAPP 6864 204" source image id*
SOURCE_IMAGE_DATE 1994 5 31 source image date as yyyy mm dd*
SOURCE_DEM_DATE 1996 6 13 source dem date yyyy mm dd*
AGENCY "WESTERN MAPPING CENTER (WMC)" oversight agency*
PRODUCER "USDA FS GEOMETRONICS SERVICE CENTER" *
PRODUCTION_SYSTEM "DV2.6.1 6/95OV2.4 5/95" production system*
STANDARD_VERSION 1996 12 version of DOQ standard*
METADATA_DATE 1998 12 29 date created or changed, yyyy mm dd*
DATA_FILE_SIZE 49410888 data set size in bytes*
BYTE_COUNT 6504 header byte count* * * * * * * * * * * * * * * * * * * * * * * * * * * * * * * * * * * * * * *
END_USGS_HEADER *
