BEGIN_USGS_DOQ_HEADER *
QUADRANGLE_NAME "NEWHALL" 3.45 or 7.5-min. name*
QUADRANT NW quadrant indicator if cell size = 3.75-minutes*
WEST_LONGITUDE -118 37 30.000 signed deg min sec SDDD MM SS.SSS*
EAST_LONGITUDE -118 33 45.000 signed deg min sec SDDD MM SS.SSS*
NORTH_LATITUDE 34 30 0.000 signed deg min sec SDDD MM SS.SSS*
SOUTH_LATITUDE 34 26 15.000 signed deg min sec SDDD MM SS.SSS*
PRODUCTION_DATE 1997 1 30 yyyy mm dd*
RASTER_ORDER LEFT_RIGHT/TOP_BOTTOM video display order*
BAND_ORGANIZATION "SINGLE FILE" single file or BSQ, or BIL or BIP*
BAND_CONTENT BLACK&WHITE black&white or red green blue*
BITS_PER_PIXEL 8 radiometric resolution*
SAMPLES_AND_LINES 6536 7625 number of columns and rows*
HORIZONTAL_DATUM NAD83 primary horizontal datum*
HORIZONTAL_COORDINATE_SYSTEM UTM *
COORDINATE_ZONE 11 coordinate system zone number*
HORIZONTAL_UNITS METERS coordinate system units*
HORIZONTAL_RESOLUTION 1.00 pixel horiz. ground sample distance*
SECONDARY_HORIZONTAL_DATUM NAD27 secondary horizontal datum*
XY_ORIGIN 350316.000 3819097.000 coord. of upper left pixel pri. datum*
SECONDARY_XY_ORIGIN 350397.193 3818900.429 coord upper left pixel sec datum*
NATION US nation code*
STATE CA state fip code*
NW_QUAD_CORNER_XY 350812.498 3818795.728 XY coords. of pri. NW quad corner*
NE_QUAD_CORNER_XY 356551.003 3818705.292 XY coords. of pri. NE quad corner*
SE_QUAD_CORNER_XY 356443.998 3811773.952 XY coords. of pri. SE quad corner*
SW_QUAD_CORNER_XY 350701.209 3811864.311 XY coords. of pri. SW quad corner*
SECONDARY_NW_QUAD_XY 350809.093 3818599.722 XY coords. - sec. NW quad cor.*
SECONDARY_NE_QUAD_XY 356547.729 3818509.285 XY coords. - sec. NE quad cor.*
SECONDARY_SE_QUAD_XY 356440.726 3811578.139 XY coords. - sec. SE quad cor.*
SECONDARY_SW_QUAD_XY 350697.806 3811668.500 XY coords. - sec. SW quad cor.*
RMSE_XY 2.50 doq horiz. accuracy*
IMAGE_SOURCE "BLACK AND WHITE FILM" b&w, cir, natural color, other*
SOURCE_IMAGE_ID "NAPP 6860 178" source image id*
SOURCE_IMAGE_DATE 1994 6 1 source image date as yyyy mm dd*
SOURCE_DEM_DATE 1997 1 30 source dem date yyyy mm dd*
AGENCY "WESTERN MAPPING CENTER (WMC)" oversight agency*
PRODUCER "USDA FS GEOMETRONICS SERVICE CENTER" *
PRODUCTION_SYSTEM "DV2.6.3 10/9OV2.4 5/95" production system*
STANDARD_VERSION 1996 12 version of DOQ standard*
METADATA_DATE 1998 12 15 date created or changed, yyyy mm dd*
DATA_FILE_SIZE 49843536 data set size in bytes*
BYTE_COUNT 6536 header byte count* * * * * * * * * * * * * * * * * * * * * * * * * * * * * * * * * * * * * * *
END_USGS_HEADER *
